BEGIN:VCALENDAR
VERSION:2.0
PRODID:-//St Boswells Village Hall - ECPv6.15.18//NONSGML v1.0//EN
CALSCALE:GREGORIAN
METHOD:PUBLISH
X-WR-CALNAME:St Boswells Village Hall
X-ORIGINAL-URL:https://stboswellsvillagehall.org
X-WR-CALDESC:Events for St Boswells Village Hall
REFRESH-INTERVAL;VALUE=DURATION:PT1H
X-Robots-Tag:noindex
X-PUBLISHED-TTL:PT1H
BEGIN:VTIMEZONE
TZID:Europe/London
BEGIN:DAYLIGHT
TZOFFSETFROM:+0000
TZOFFSETTO:+0100
TZNAME:BST
DTSTART:20210328T010000
END:DAYLIGHT
BEGIN:STANDARD
TZOFFSETFROM:+0100
TZOFFSETTO:+0000
TZNAME:GMT
DTSTART:20211031T010000
END:STANDARD
BEGIN:DAYLIGHT
TZOFFSETFROM:+0000
TZOFFSETTO:+0100
TZNAME:BST
DTSTART:20220327T010000
END:DAYLIGHT
BEGIN:STANDARD
TZOFFSETFROM:+0100
TZOFFSETTO:+0000
TZNAME:GMT
DTSTART:20221030T010000
END:STANDARD
BEGIN:DAYLIGHT
TZOFFSETFROM:+0000
TZOFFSETTO:+0100
TZNAME:BST
DTSTART:20230326T010000
END:DAYLIGHT
BEGIN:STANDARD
TZOFFSETFROM:+0100
TZOFFSETTO:+0000
TZNAME:GMT
DTSTART:20231029T010000
END:STANDARD
BEGIN:DAYLIGHT
TZOFFSETFROM:+0000
TZOFFSETTO:+0100
TZNAME:BST
DTSTART:20240331T010000
END:DAYLIGHT
BEGIN:STANDARD
TZOFFSETFROM:+0100
TZOFFSETTO:+0000
TZNAME:GMT
DTSTART:20241027T010000
END:STANDARD
END:VTIMEZONE
BEGIN:VEVENT
DTSTART;TZID=Europe/London:20230405T110000
DTEND;TZID=Europe/London:20230405T170000
DTSTAMP:20260421T111948
CREATED:20230224T152707Z
LAST-MODIFIED:20230224T152707Z
UID:10000723-1680692400-1680714000@stboswellsvillagehall.org
SUMMARY:Garden Furniture Sale - Miller Trading Ltd
DESCRIPTION:
URL:https://stboswellsvillagehall.org/event/garden-furniture-sale-miller-trading-ltd-2/
LOCATION:St Boswells Village Hall\, Jenny Moores Road\, St Boswells\, Scottish Borders\, TD6 0AL\, United Kingdom
CATEGORIES:Main Hall
END:VEVENT
BEGIN:VEVENT
DTSTART;TZID=Europe/London:20230404T110000
DTEND;TZID=Europe/London:20230404T170000
DTSTAMP:20260421T111948
CREATED:20230224T152627Z
LAST-MODIFIED:20230224T152627Z
UID:10000721-1680606000-1680627600@stboswellsvillagehall.org
SUMMARY:Garden Furniture Sale - Miller Trading Ltd
DESCRIPTION:
URL:https://stboswellsvillagehall.org/event/garden-furniture-sale-miller-trading-ltd/
LOCATION:St Boswells Village Hall\, Jenny Moores Road\, St Boswells\, Scottish Borders\, TD6 0AL\, United Kingdom
CATEGORIES:Main Hall
END:VEVENT
BEGIN:VEVENT
DTSTART;TZID=Europe/London:20220818T113000
DTEND;TZID=Europe/London:20220818T173000
DTSTAMP:20260421T111948
CREATED:20220815T164713Z
LAST-MODIFIED:20220815T165751Z
UID:10000472-1660822200-1660843800@stboswellsvillagehall.org
SUMMARY:Garden Furniture Sale
DESCRIPTION:
URL:https://stboswellsvillagehall.org/event/garden-furniture-sale-3/
LOCATION:St Boswells Village Hall\, Jenny Moores Road\, St Boswells\, Scottish Borders\, TD6 0AL\, United Kingdom
CATEGORIES:Main Hall
END:VEVENT
BEGIN:VEVENT
DTSTART;TZID=Europe/London:20220817T110000
DTEND;TZID=Europe/London:20220817T163000
DTSTAMP:20260421T111948
CREATED:20220815T164524Z
LAST-MODIFIED:20220815T165432Z
UID:10000467-1660734000-1660753800@stboswellsvillagehall.org
SUMMARY:Garden Furniture Sale
DESCRIPTION:
URL:https://stboswellsvillagehall.org/event/garden-furniture-sale-2/
CATEGORIES:Main Hall
END:VEVENT
END:VCALENDAR