BEGIN:VCALENDAR
VERSION:2.0
PRODID:-//St Boswells Village Hall - ECPv6.15.18//NONSGML v1.0//EN
CALSCALE:GREGORIAN
METHOD:PUBLISH
X-ORIGINAL-URL:https://stboswellsvillagehall.org
X-WR-CALDESC:Events for St Boswells Village Hall
REFRESH-INTERVAL;VALUE=DURATION:PT1H
X-Robots-Tag:noindex
X-PUBLISHED-TTL:PT1H
BEGIN:VTIMEZONE
TZID:Europe/London
BEGIN:DAYLIGHT
TZOFFSETFROM:+0000
TZOFFSETTO:+0100
TZNAME:BST
DTSTART:20220327T010000
END:DAYLIGHT
BEGIN:STANDARD
TZOFFSETFROM:+0100
TZOFFSETTO:+0000
TZNAME:GMT
DTSTART:20221030T010000
END:STANDARD
BEGIN:DAYLIGHT
TZOFFSETFROM:+0000
TZOFFSETTO:+0100
TZNAME:BST
DTSTART:20230326T010000
END:DAYLIGHT
BEGIN:STANDARD
TZOFFSETFROM:+0100
TZOFFSETTO:+0000
TZNAME:GMT
DTSTART:20231029T010000
END:STANDARD
BEGIN:DAYLIGHT
TZOFFSETFROM:+0000
TZOFFSETTO:+0100
TZNAME:BST
DTSTART:20240331T010000
END:DAYLIGHT
BEGIN:STANDARD
TZOFFSETFROM:+0100
TZOFFSETTO:+0000
TZNAME:GMT
DTSTART:20241027T010000
END:STANDARD
BEGIN:DAYLIGHT
TZOFFSETFROM:+0000
TZOFFSETTO:+0100
TZNAME:BST
DTSTART:20250330T010000
END:DAYLIGHT
BEGIN:STANDARD
TZOFFSETFROM:+0100
TZOFFSETTO:+0000
TZNAME:GMT
DTSTART:20251026T010000
END:STANDARD
END:VTIMEZONE
BEGIN:VEVENT
DTSTART;TZID=Europe/London:20240423T090000
DTEND;TZID=Europe/London:20240423T150000
DTSTAMP:20260420T144732
CREATED:20231024T174437Z
LAST-MODIFIED:20231024T174437Z
UID:10001436-1713862800-1713884400@stboswellsvillagehall.org
SUMMARY:Royal Voluntary Service
DESCRIPTION:
URL:https://stboswellsvillagehall.org/event/royal-voluntary-service-4-2-4/2024-04-23/
LOCATION:St Boswells Village Hall\, Jenny Moores Road\, St Boswells\, Scottish Borders\, TD6 0AL\, United Kingdom
CATEGORIES:Lesser Hall
END:VEVENT
BEGIN:VEVENT
DTSTART;TZID=Europe/London:20240416T090000
DTEND;TZID=Europe/London:20240416T150000
DTSTAMP:20260420T144732
CREATED:20231024T174437Z
LAST-MODIFIED:20231024T174437Z
UID:10001435-1713258000-1713279600@stboswellsvillagehall.org
SUMMARY:Royal Voluntary Service
DESCRIPTION:
URL:https://stboswellsvillagehall.org/event/royal-voluntary-service-4-2-4/2024-04-16/
LOCATION:St Boswells Village Hall\, Jenny Moores Road\, St Boswells\, Scottish Borders\, TD6 0AL\, United Kingdom
CATEGORIES:Lesser Hall
END:VEVENT
BEGIN:VEVENT
DTSTART;TZID=Europe/London:20240409T090000
DTEND;TZID=Europe/London:20240409T150000
DTSTAMP:20260420T144732
CREATED:20231024T174437Z
LAST-MODIFIED:20231024T174437Z
UID:10001434-1712653200-1712674800@stboswellsvillagehall.org
SUMMARY:Royal Voluntary Service
DESCRIPTION:
URL:https://stboswellsvillagehall.org/event/royal-voluntary-service-4-2-4/2024-04-09/
LOCATION:St Boswells Village Hall\, Jenny Moores Road\, St Boswells\, Scottish Borders\, TD6 0AL\, United Kingdom
CATEGORIES:Lesser Hall
END:VEVENT
BEGIN:VEVENT
DTSTART;TZID=Europe/London:20240402T090000
DTEND;TZID=Europe/London:20240402T150000
DTSTAMP:20260420T144732
CREATED:20231024T174437Z
LAST-MODIFIED:20231024T174437Z
UID:10001433-1712048400-1712070000@stboswellsvillagehall.org
SUMMARY:Royal Voluntary Service
DESCRIPTION:
URL:https://stboswellsvillagehall.org/event/royal-voluntary-service-4-2-4/2024-04-02/
LOCATION:St Boswells Village Hall\, Jenny Moores Road\, St Boswells\, Scottish Borders\, TD6 0AL\, United Kingdom
CATEGORIES:Lesser Hall
END:VEVENT
BEGIN:VEVENT
DTSTART;TZID=Europe/London:20240326T090000
DTEND;TZID=Europe/London:20240326T150000
DTSTAMP:20260420T144732
CREATED:20231024T174437Z
LAST-MODIFIED:20231024T174437Z
UID:10001432-1711443600-1711465200@stboswellsvillagehall.org
SUMMARY:Royal Voluntary Service
DESCRIPTION:
URL:https://stboswellsvillagehall.org/event/royal-voluntary-service-4-2-4/2024-03-26/
LOCATION:St Boswells Village Hall\, Jenny Moores Road\, St Boswells\, Scottish Borders\, TD6 0AL\, United Kingdom
CATEGORIES:Lesser Hall
END:VEVENT
BEGIN:VEVENT
DTSTART;TZID=Europe/London:20240319T090000
DTEND;TZID=Europe/London:20240319T150000
DTSTAMP:20260420T144732
CREATED:20231024T174437Z
LAST-MODIFIED:20231024T174437Z
UID:10001431-1710838800-1710860400@stboswellsvillagehall.org
SUMMARY:Royal Voluntary Service
DESCRIPTION:
URL:https://stboswellsvillagehall.org/event/royal-voluntary-service-4-2-4/2024-03-19/
LOCATION:St Boswells Village Hall\, Jenny Moores Road\, St Boswells\, Scottish Borders\, TD6 0AL\, United Kingdom
CATEGORIES:Lesser Hall
END:VEVENT
BEGIN:VEVENT
DTSTART;TZID=Europe/London:20240312T090000
DTEND;TZID=Europe/London:20240312T150000
DTSTAMP:20260420T144732
CREATED:20231024T174437Z
LAST-MODIFIED:20231024T174437Z
UID:10001430-1710234000-1710255600@stboswellsvillagehall.org
SUMMARY:Royal Voluntary Service
DESCRIPTION:
URL:https://stboswellsvillagehall.org/event/royal-voluntary-service-4-2-4/2024-03-12/
LOCATION:St Boswells Village Hall\, Jenny Moores Road\, St Boswells\, Scottish Borders\, TD6 0AL\, United Kingdom
CATEGORIES:Lesser Hall
END:VEVENT
BEGIN:VEVENT
DTSTART;TZID=Europe/London:20240305T090000
DTEND;TZID=Europe/London:20240305T150000
DTSTAMP:20260420T144732
CREATED:20231024T174437Z
LAST-MODIFIED:20231024T174437Z
UID:10001429-1709629200-1709650800@stboswellsvillagehall.org
SUMMARY:Royal Voluntary Service
DESCRIPTION:
URL:https://stboswellsvillagehall.org/event/royal-voluntary-service-4-2-4/2024-03-05/
LOCATION:St Boswells Village Hall\, Jenny Moores Road\, St Boswells\, Scottish Borders\, TD6 0AL\, United Kingdom
CATEGORIES:Lesser Hall
END:VEVENT
BEGIN:VEVENT
DTSTART;TZID=Europe/London:20240227T090000
DTEND;TZID=Europe/London:20240227T150000
DTSTAMP:20260420T144732
CREATED:20231024T174437Z
LAST-MODIFIED:20231024T174437Z
UID:10001428-1709024400-1709046000@stboswellsvillagehall.org
SUMMARY:Royal Voluntary Service
DESCRIPTION:
URL:https://stboswellsvillagehall.org/event/royal-voluntary-service-4-2-4/2024-02-27/
LOCATION:St Boswells Village Hall\, Jenny Moores Road\, St Boswells\, Scottish Borders\, TD6 0AL\, United Kingdom
CATEGORIES:Lesser Hall
END:VEVENT
BEGIN:VEVENT
DTSTART;TZID=Europe/London:20240220T090000
DTEND;TZID=Europe/London:20240220T150000
DTSTAMP:20260420T144732
CREATED:20231024T174437Z
LAST-MODIFIED:20231024T174437Z
UID:10001427-1708419600-1708441200@stboswellsvillagehall.org
SUMMARY:Royal Voluntary Service
DESCRIPTION:
URL:https://stboswellsvillagehall.org/event/royal-voluntary-service-4-2-4/2024-02-20/
LOCATION:St Boswells Village Hall\, Jenny Moores Road\, St Boswells\, Scottish Borders\, TD6 0AL\, United Kingdom
CATEGORIES:Lesser Hall
END:VEVENT
BEGIN:VEVENT
DTSTART;TZID=Europe/London:20240213T090000
DTEND;TZID=Europe/London:20240213T150000
DTSTAMP:20260420T144732
CREATED:20231024T174437Z
LAST-MODIFIED:20231024T174437Z
UID:10001426-1707814800-1707836400@stboswellsvillagehall.org
SUMMARY:Royal Voluntary Service
DESCRIPTION:
URL:https://stboswellsvillagehall.org/event/royal-voluntary-service-4-2-4/2024-02-13/
LOCATION:St Boswells Village Hall\, Jenny Moores Road\, St Boswells\, Scottish Borders\, TD6 0AL\, United Kingdom
CATEGORIES:Lesser Hall
END:VEVENT
BEGIN:VEVENT
DTSTART;TZID=Europe/London:20240206T090000
DTEND;TZID=Europe/London:20240206T150000
DTSTAMP:20260420T144732
CREATED:20231024T174437Z
LAST-MODIFIED:20231024T174437Z
UID:10001425-1707210000-1707231600@stboswellsvillagehall.org
SUMMARY:Royal Voluntary Service
DESCRIPTION:
URL:https://stboswellsvillagehall.org/event/royal-voluntary-service-4-2-4/2024-02-06/
LOCATION:St Boswells Village Hall\, Jenny Moores Road\, St Boswells\, Scottish Borders\, TD6 0AL\, United Kingdom
CATEGORIES:Lesser Hall
END:VEVENT
BEGIN:VEVENT
DTSTART;TZID=Europe/London:20240130T090000
DTEND;TZID=Europe/London:20240130T150000
DTSTAMP:20260420T144732
CREATED:20231024T174437Z
LAST-MODIFIED:20231024T174437Z
UID:10001424-1706605200-1706626800@stboswellsvillagehall.org
SUMMARY:Royal Voluntary Service
DESCRIPTION:
URL:https://stboswellsvillagehall.org/event/royal-voluntary-service-4-2-4/2024-01-30/
LOCATION:St Boswells Village Hall\, Jenny Moores Road\, St Boswells\, Scottish Borders\, TD6 0AL\, United Kingdom
CATEGORIES:Lesser Hall
END:VEVENT
BEGIN:VEVENT
DTSTART;TZID=Europe/London:20240123T090000
DTEND;TZID=Europe/London:20240123T150000
DTSTAMP:20260420T144732
CREATED:20231024T174437Z
LAST-MODIFIED:20231024T174437Z
UID:10001423-1706000400-1706022000@stboswellsvillagehall.org
SUMMARY:Royal Voluntary Service
DESCRIPTION:
URL:https://stboswellsvillagehall.org/event/royal-voluntary-service-4-2-4/2024-01-23/
LOCATION:St Boswells Village Hall\, Jenny Moores Road\, St Boswells\, Scottish Borders\, TD6 0AL\, United Kingdom
CATEGORIES:Lesser Hall
END:VEVENT
BEGIN:VEVENT
DTSTART;TZID=Europe/London:20240116T090000
DTEND;TZID=Europe/London:20240116T150000
DTSTAMP:20260420T144732
CREATED:20231024T174437Z
LAST-MODIFIED:20231024T174437Z
UID:10001422-1705395600-1705417200@stboswellsvillagehall.org
SUMMARY:Royal Voluntary Service
DESCRIPTION:
URL:https://stboswellsvillagehall.org/event/royal-voluntary-service-4-2-4/2024-01-16/
LOCATION:St Boswells Village Hall\, Jenny Moores Road\, St Boswells\, Scottish Borders\, TD6 0AL\, United Kingdom
CATEGORIES:Lesser Hall
END:VEVENT
BEGIN:VEVENT
DTSTART;TZID=Europe/London:20240109T090000
DTEND;TZID=Europe/London:20240109T150000
DTSTAMP:20260420T144732
CREATED:20231024T174437Z
LAST-MODIFIED:20231024T174437Z
UID:10001421-1704790800-1704812400@stboswellsvillagehall.org
SUMMARY:Royal Voluntary Service
DESCRIPTION:
URL:https://stboswellsvillagehall.org/event/royal-voluntary-service-4-2-4/2024-01-09/
LOCATION:St Boswells Village Hall\, Jenny Moores Road\, St Boswells\, Scottish Borders\, TD6 0AL\, United Kingdom
CATEGORIES:Lesser Hall
END:VEVENT
BEGIN:VEVENT
DTSTART;TZID=Europe/London:20231212T090000
DTEND;TZID=Europe/London:20231212T150000
DTSTAMP:20260420T144732
CREATED:20230922T144238Z
LAST-MODIFIED:20230922T144238Z
UID:10001403-1702371600-1702393200@stboswellsvillagehall.org
SUMMARY:Royal Voluntary Service
DESCRIPTION:
URL:https://stboswellsvillagehall.org/event/royal-voluntary-service/
LOCATION:St Boswells Village Hall\, Jenny Moores Road\, St Boswells\, Scottish Borders\, TD6 0AL\, United Kingdom
CATEGORIES:Lesser Hall
END:VEVENT
END:VCALENDAR