BEGIN:VCALENDAR
VERSION:2.0
PRODID:-//St Boswells Village Hall - ECPv6.15.18//NONSGML v1.0//EN
CALSCALE:GREGORIAN
METHOD:PUBLISH
X-ORIGINAL-URL:https://stboswellsvillagehall.org
X-WR-CALDESC:Events for St Boswells Village Hall
REFRESH-INTERVAL;VALUE=DURATION:PT1H
X-Robots-Tag:noindex
X-PUBLISHED-TTL:PT1H
BEGIN:VTIMEZONE
TZID:Europe/London
BEGIN:DAYLIGHT
TZOFFSETFROM:+0000
TZOFFSETTO:+0100
TZNAME:BST
DTSTART:20230326T010000
END:DAYLIGHT
BEGIN:STANDARD
TZOFFSETFROM:+0100
TZOFFSETTO:+0000
TZNAME:GMT
DTSTART:20231029T010000
END:STANDARD
BEGIN:DAYLIGHT
TZOFFSETFROM:+0000
TZOFFSETTO:+0100
TZNAME:BST
DTSTART:20240331T010000
END:DAYLIGHT
BEGIN:STANDARD
TZOFFSETFROM:+0100
TZOFFSETTO:+0000
TZNAME:GMT
DTSTART:20241027T010000
END:STANDARD
BEGIN:DAYLIGHT
TZOFFSETFROM:+0000
TZOFFSETTO:+0100
TZNAME:BST
DTSTART:20250330T010000
END:DAYLIGHT
BEGIN:STANDARD
TZOFFSETFROM:+0100
TZOFFSETTO:+0000
TZNAME:GMT
DTSTART:20251026T010000
END:STANDARD
END:VTIMEZONE
BEGIN:VEVENT
DTSTART;TZID=Europe/London:20241126T090000
DTEND;TZID=Europe/London:20241126T150000
DTSTAMP:20260420T112537
CREATED:20231024T174437Z
LAST-MODIFIED:20231024T174437Z
UID:10001467-1732611600-1732633200@stboswellsvillagehall.org
SUMMARY:Royal Voluntary Service
DESCRIPTION:
URL:https://stboswellsvillagehall.org/event/royal-voluntary-service-4-2-4/2024-11-26/
LOCATION:St Boswells Village Hall\, Jenny Moores Road\, St Boswells\, Scottish Borders\, TD6 0AL\, United Kingdom
CATEGORIES:Lesser Hall
END:VEVENT
BEGIN:VEVENT
DTSTART;TZID=Europe/London:20241119T090000
DTEND;TZID=Europe/London:20241119T150000
DTSTAMP:20260420T112537
CREATED:20231024T174437Z
LAST-MODIFIED:20231024T174437Z
UID:10001466-1732006800-1732028400@stboswellsvillagehall.org
SUMMARY:Royal Voluntary Service
DESCRIPTION:
URL:https://stboswellsvillagehall.org/event/royal-voluntary-service-4-2-4/2024-11-19/
LOCATION:St Boswells Village Hall\, Jenny Moores Road\, St Boswells\, Scottish Borders\, TD6 0AL\, United Kingdom
CATEGORIES:Lesser Hall
END:VEVENT
BEGIN:VEVENT
DTSTART;TZID=Europe/London:20241112T090000
DTEND;TZID=Europe/London:20241112T150000
DTSTAMP:20260420T112537
CREATED:20231024T174437Z
LAST-MODIFIED:20231024T174437Z
UID:10001465-1731402000-1731423600@stboswellsvillagehall.org
SUMMARY:Royal Voluntary Service
DESCRIPTION:
URL:https://stboswellsvillagehall.org/event/royal-voluntary-service-4-2-4/2024-11-12/
LOCATION:St Boswells Village Hall\, Jenny Moores Road\, St Boswells\, Scottish Borders\, TD6 0AL\, United Kingdom
CATEGORIES:Lesser Hall
END:VEVENT
BEGIN:VEVENT
DTSTART;TZID=Europe/London:20241105T090000
DTEND;TZID=Europe/London:20241105T150000
DTSTAMP:20260420T112537
CREATED:20231024T174437Z
LAST-MODIFIED:20231024T174437Z
UID:10001464-1730797200-1730818800@stboswellsvillagehall.org
SUMMARY:Royal Voluntary Service
DESCRIPTION:
URL:https://stboswellsvillagehall.org/event/royal-voluntary-service-4-2-4/2024-11-05/
LOCATION:St Boswells Village Hall\, Jenny Moores Road\, St Boswells\, Scottish Borders\, TD6 0AL\, United Kingdom
CATEGORIES:Lesser Hall
END:VEVENT
BEGIN:VEVENT
DTSTART;TZID=Europe/London:20241029T090000
DTEND;TZID=Europe/London:20241029T150000
DTSTAMP:20260420T112537
CREATED:20231024T174437Z
LAST-MODIFIED:20231024T174437Z
UID:10001463-1730192400-1730214000@stboswellsvillagehall.org
SUMMARY:Royal Voluntary Service
DESCRIPTION:
URL:https://stboswellsvillagehall.org/event/royal-voluntary-service-4-2-4/2024-10-29/
LOCATION:St Boswells Village Hall\, Jenny Moores Road\, St Boswells\, Scottish Borders\, TD6 0AL\, United Kingdom
CATEGORIES:Lesser Hall
END:VEVENT
BEGIN:VEVENT
DTSTART;TZID=Europe/London:20241022T090000
DTEND;TZID=Europe/London:20241022T150000
DTSTAMP:20260420T112537
CREATED:20231024T174437Z
LAST-MODIFIED:20231024T174437Z
UID:10001462-1729587600-1729609200@stboswellsvillagehall.org
SUMMARY:Royal Voluntary Service
DESCRIPTION:
URL:https://stboswellsvillagehall.org/event/royal-voluntary-service-4-2-4/2024-10-22/
LOCATION:St Boswells Village Hall\, Jenny Moores Road\, St Boswells\, Scottish Borders\, TD6 0AL\, United Kingdom
CATEGORIES:Lesser Hall
END:VEVENT
BEGIN:VEVENT
DTSTART;TZID=Europe/London:20241015T090000
DTEND;TZID=Europe/London:20241015T150000
DTSTAMP:20260420T112537
CREATED:20231024T174437Z
LAST-MODIFIED:20231024T174437Z
UID:10001461-1728982800-1729004400@stboswellsvillagehall.org
SUMMARY:Royal Voluntary Service
DESCRIPTION:
URL:https://stboswellsvillagehall.org/event/royal-voluntary-service-4-2-4/2024-10-15/
LOCATION:St Boswells Village Hall\, Jenny Moores Road\, St Boswells\, Scottish Borders\, TD6 0AL\, United Kingdom
CATEGORIES:Lesser Hall
END:VEVENT
BEGIN:VEVENT
DTSTART;TZID=Europe/London:20241008T090000
DTEND;TZID=Europe/London:20241008T150000
DTSTAMP:20260420T112537
CREATED:20231024T174437Z
LAST-MODIFIED:20231024T174437Z
UID:10001460-1728378000-1728399600@stboswellsvillagehall.org
SUMMARY:Royal Voluntary Service
DESCRIPTION:
URL:https://stboswellsvillagehall.org/event/royal-voluntary-service-4-2-4/2024-10-08/
LOCATION:St Boswells Village Hall\, Jenny Moores Road\, St Boswells\, Scottish Borders\, TD6 0AL\, United Kingdom
CATEGORIES:Lesser Hall
END:VEVENT
BEGIN:VEVENT
DTSTART;TZID=Europe/London:20241001T090000
DTEND;TZID=Europe/London:20241001T150000
DTSTAMP:20260420T112537
CREATED:20231024T174437Z
LAST-MODIFIED:20231024T174437Z
UID:10001459-1727773200-1727794800@stboswellsvillagehall.org
SUMMARY:Royal Voluntary Service
DESCRIPTION:
URL:https://stboswellsvillagehall.org/event/royal-voluntary-service-4-2-4/2024-10-01/
LOCATION:St Boswells Village Hall\, Jenny Moores Road\, St Boswells\, Scottish Borders\, TD6 0AL\, United Kingdom
CATEGORIES:Lesser Hall
END:VEVENT
BEGIN:VEVENT
DTSTART;TZID=Europe/London:20240924T090000
DTEND;TZID=Europe/London:20240924T150000
DTSTAMP:20260420T112537
CREATED:20231024T174437Z
LAST-MODIFIED:20231024T174437Z
UID:10001458-1727168400-1727190000@stboswellsvillagehall.org
SUMMARY:Royal Voluntary Service
DESCRIPTION:
URL:https://stboswellsvillagehall.org/event/royal-voluntary-service-4-2-4/2024-09-24/
LOCATION:St Boswells Village Hall\, Jenny Moores Road\, St Boswells\, Scottish Borders\, TD6 0AL\, United Kingdom
CATEGORIES:Lesser Hall
END:VEVENT
BEGIN:VEVENT
DTSTART;TZID=Europe/London:20240730T090000
DTEND;TZID=Europe/London:20240730T150000
DTSTAMP:20260420T112537
CREATED:20231024T174437Z
LAST-MODIFIED:20231024T174437Z
UID:10001450-1722330000-1722351600@stboswellsvillagehall.org
SUMMARY:Royal Voluntary Service
DESCRIPTION:
URL:https://stboswellsvillagehall.org/event/royal-voluntary-service-4-2-4/2024-07-30/
LOCATION:St Boswells Village Hall\, Jenny Moores Road\, St Boswells\, Scottish Borders\, TD6 0AL\, United Kingdom
CATEGORIES:Lesser Hall
END:VEVENT
BEGIN:VEVENT
DTSTART;TZID=Europe/London:20240723T090000
DTEND;TZID=Europe/London:20240723T150000
DTSTAMP:20260420T112537
CREATED:20231024T174437Z
LAST-MODIFIED:20231024T174437Z
UID:10001449-1721725200-1721746800@stboswellsvillagehall.org
SUMMARY:Royal Voluntary Service
DESCRIPTION:
URL:https://stboswellsvillagehall.org/event/royal-voluntary-service-4-2-4/2024-07-23/
LOCATION:St Boswells Village Hall\, Jenny Moores Road\, St Boswells\, Scottish Borders\, TD6 0AL\, United Kingdom
CATEGORIES:Lesser Hall
END:VEVENT
BEGIN:VEVENT
DTSTART;TZID=Europe/London:20240716T090000
DTEND;TZID=Europe/London:20240716T150000
DTSTAMP:20260420T112537
CREATED:20231024T174437Z
LAST-MODIFIED:20231024T174437Z
UID:10001448-1721120400-1721142000@stboswellsvillagehall.org
SUMMARY:Royal Voluntary Service
DESCRIPTION:
URL:https://stboswellsvillagehall.org/event/royal-voluntary-service-4-2-4/2024-07-16/
LOCATION:St Boswells Village Hall\, Jenny Moores Road\, St Boswells\, Scottish Borders\, TD6 0AL\, United Kingdom
CATEGORIES:Lesser Hall
END:VEVENT
BEGIN:VEVENT
DTSTART;TZID=Europe/London:20240709T090000
DTEND;TZID=Europe/London:20240709T150000
DTSTAMP:20260420T112537
CREATED:20231024T174437Z
LAST-MODIFIED:20231024T174437Z
UID:10001447-1720515600-1720537200@stboswellsvillagehall.org
SUMMARY:Royal Voluntary Service
DESCRIPTION:
URL:https://stboswellsvillagehall.org/event/royal-voluntary-service-4-2-4/2024-07-09/
LOCATION:St Boswells Village Hall\, Jenny Moores Road\, St Boswells\, Scottish Borders\, TD6 0AL\, United Kingdom
CATEGORIES:Lesser Hall
END:VEVENT
BEGIN:VEVENT
DTSTART;TZID=Europe/London:20240702T090000
DTEND;TZID=Europe/London:20240702T150000
DTSTAMP:20260420T112537
CREATED:20231024T174437Z
LAST-MODIFIED:20231024T174437Z
UID:10001446-1719910800-1719932400@stboswellsvillagehall.org
SUMMARY:Royal Voluntary Service
DESCRIPTION:
URL:https://stboswellsvillagehall.org/event/royal-voluntary-service-4-2-4/2024-07-02/
LOCATION:St Boswells Village Hall\, Jenny Moores Road\, St Boswells\, Scottish Borders\, TD6 0AL\, United Kingdom
CATEGORIES:Lesser Hall
END:VEVENT
BEGIN:VEVENT
DTSTART;TZID=Europe/London:20240625T090000
DTEND;TZID=Europe/London:20240625T150000
DTSTAMP:20260420T112537
CREATED:20231024T174437Z
LAST-MODIFIED:20231024T174437Z
UID:10001445-1719306000-1719327600@stboswellsvillagehall.org
SUMMARY:Royal Voluntary Service
DESCRIPTION:
URL:https://stboswellsvillagehall.org/event/royal-voluntary-service-4-2-4/2024-06-25/
LOCATION:St Boswells Village Hall\, Jenny Moores Road\, St Boswells\, Scottish Borders\, TD6 0AL\, United Kingdom
CATEGORIES:Lesser Hall
END:VEVENT
BEGIN:VEVENT
DTSTART;TZID=Europe/London:20240618T090000
DTEND;TZID=Europe/London:20240618T150000
DTSTAMP:20260420T112537
CREATED:20231024T174437Z
LAST-MODIFIED:20231024T174437Z
UID:10001444-1718701200-1718722800@stboswellsvillagehall.org
SUMMARY:Royal Voluntary Service
DESCRIPTION:
URL:https://stboswellsvillagehall.org/event/royal-voluntary-service-4-2-4/2024-06-18/
LOCATION:St Boswells Village Hall\, Jenny Moores Road\, St Boswells\, Scottish Borders\, TD6 0AL\, United Kingdom
CATEGORIES:Lesser Hall
END:VEVENT
BEGIN:VEVENT
DTSTART;TZID=Europe/London:20240611T090000
DTEND;TZID=Europe/London:20240611T150000
DTSTAMP:20260420T112537
CREATED:20231024T174437Z
LAST-MODIFIED:20231024T174437Z
UID:10001443-1718096400-1718118000@stboswellsvillagehall.org
SUMMARY:Royal Voluntary Service
DESCRIPTION:
URL:https://stboswellsvillagehall.org/event/royal-voluntary-service-4-2-4/2024-06-11/
LOCATION:St Boswells Village Hall\, Jenny Moores Road\, St Boswells\, Scottish Borders\, TD6 0AL\, United Kingdom
CATEGORIES:Lesser Hall
END:VEVENT
BEGIN:VEVENT
DTSTART;TZID=Europe/London:20240604T090000
DTEND;TZID=Europe/London:20240604T150000
DTSTAMP:20260420T112537
CREATED:20231024T174437Z
LAST-MODIFIED:20231024T174437Z
UID:10001442-1717491600-1717513200@stboswellsvillagehall.org
SUMMARY:Royal Voluntary Service
DESCRIPTION:
URL:https://stboswellsvillagehall.org/event/royal-voluntary-service-4-2-4/2024-06-04/
LOCATION:St Boswells Village Hall\, Jenny Moores Road\, St Boswells\, Scottish Borders\, TD6 0AL\, United Kingdom
CATEGORIES:Lesser Hall
END:VEVENT
BEGIN:VEVENT
DTSTART;TZID=Europe/London:20240528T090000
DTEND;TZID=Europe/London:20240528T150000
DTSTAMP:20260420T112537
CREATED:20231024T174437Z
LAST-MODIFIED:20231024T174437Z
UID:10001441-1716886800-1716908400@stboswellsvillagehall.org
SUMMARY:Royal Voluntary Service
DESCRIPTION:
URL:https://stboswellsvillagehall.org/event/royal-voluntary-service-4-2-4/2024-05-28/
LOCATION:St Boswells Village Hall\, Jenny Moores Road\, St Boswells\, Scottish Borders\, TD6 0AL\, United Kingdom
CATEGORIES:Lesser Hall
END:VEVENT
BEGIN:VEVENT
DTSTART;TZID=Europe/London:20240521T090000
DTEND;TZID=Europe/London:20240521T150000
DTSTAMP:20260420T112537
CREATED:20231024T174437Z
LAST-MODIFIED:20231024T174437Z
UID:10001440-1716282000-1716303600@stboswellsvillagehall.org
SUMMARY:Royal Voluntary Service
DESCRIPTION:
URL:https://stboswellsvillagehall.org/event/royal-voluntary-service-4-2-4/2024-05-21/
LOCATION:St Boswells Village Hall\, Jenny Moores Road\, St Boswells\, Scottish Borders\, TD6 0AL\, United Kingdom
CATEGORIES:Lesser Hall
END:VEVENT
BEGIN:VEVENT
DTSTART;TZID=Europe/London:20240514T090000
DTEND;TZID=Europe/London:20240514T150000
DTSTAMP:20260420T112537
CREATED:20231024T174437Z
LAST-MODIFIED:20231024T174437Z
UID:10001439-1715677200-1715698800@stboswellsvillagehall.org
SUMMARY:Royal Voluntary Service
DESCRIPTION:
URL:https://stboswellsvillagehall.org/event/royal-voluntary-service-4-2-4/2024-05-14/
LOCATION:St Boswells Village Hall\, Jenny Moores Road\, St Boswells\, Scottish Borders\, TD6 0AL\, United Kingdom
CATEGORIES:Lesser Hall
END:VEVENT
BEGIN:VEVENT
DTSTART;TZID=Europe/London:20240507T090000
DTEND;TZID=Europe/London:20240507T150000
DTSTAMP:20260420T112537
CREATED:20231024T174437Z
LAST-MODIFIED:20231024T174437Z
UID:10001438-1715072400-1715094000@stboswellsvillagehall.org
SUMMARY:Royal Voluntary Service
DESCRIPTION:
URL:https://stboswellsvillagehall.org/event/royal-voluntary-service-4-2-4/2024-05-07/
LOCATION:St Boswells Village Hall\, Jenny Moores Road\, St Boswells\, Scottish Borders\, TD6 0AL\, United Kingdom
CATEGORIES:Lesser Hall
END:VEVENT
BEGIN:VEVENT
DTSTART;TZID=Europe/London:20240430T090000
DTEND;TZID=Europe/London:20240430T150000
DTSTAMP:20260420T112537
CREATED:20231024T174437Z
LAST-MODIFIED:20231024T174437Z
UID:10001437-1714467600-1714489200@stboswellsvillagehall.org
SUMMARY:Royal Voluntary Service
DESCRIPTION:
URL:https://stboswellsvillagehall.org/event/royal-voluntary-service-4-2-4/2024-04-30/
LOCATION:St Boswells Village Hall\, Jenny Moores Road\, St Boswells\, Scottish Borders\, TD6 0AL\, United Kingdom
CATEGORIES:Lesser Hall
END:VEVENT
BEGIN:VEVENT
DTSTART;TZID=Europe/London:20240423T090000
DTEND;TZID=Europe/London:20240423T150000
DTSTAMP:20260420T112537
CREATED:20231024T174437Z
LAST-MODIFIED:20231024T174437Z
UID:10001436-1713862800-1713884400@stboswellsvillagehall.org
SUMMARY:Royal Voluntary Service
DESCRIPTION:
URL:https://stboswellsvillagehall.org/event/royal-voluntary-service-4-2-4/2024-04-23/
LOCATION:St Boswells Village Hall\, Jenny Moores Road\, St Boswells\, Scottish Borders\, TD6 0AL\, United Kingdom
CATEGORIES:Lesser Hall
END:VEVENT
BEGIN:VEVENT
DTSTART;TZID=Europe/London:20240416T090000
DTEND;TZID=Europe/London:20240416T150000
DTSTAMP:20260420T112537
CREATED:20231024T174437Z
LAST-MODIFIED:20231024T174437Z
UID:10001435-1713258000-1713279600@stboswellsvillagehall.org
SUMMARY:Royal Voluntary Service
DESCRIPTION:
URL:https://stboswellsvillagehall.org/event/royal-voluntary-service-4-2-4/2024-04-16/
LOCATION:St Boswells Village Hall\, Jenny Moores Road\, St Boswells\, Scottish Borders\, TD6 0AL\, United Kingdom
CATEGORIES:Lesser Hall
END:VEVENT
BEGIN:VEVENT
DTSTART;TZID=Europe/London:20240409T090000
DTEND;TZID=Europe/London:20240409T150000
DTSTAMP:20260420T112537
CREATED:20231024T174437Z
LAST-MODIFIED:20231024T174437Z
UID:10001434-1712653200-1712674800@stboswellsvillagehall.org
SUMMARY:Royal Voluntary Service
DESCRIPTION:
URL:https://stboswellsvillagehall.org/event/royal-voluntary-service-4-2-4/2024-04-09/
LOCATION:St Boswells Village Hall\, Jenny Moores Road\, St Boswells\, Scottish Borders\, TD6 0AL\, United Kingdom
CATEGORIES:Lesser Hall
END:VEVENT
BEGIN:VEVENT
DTSTART;TZID=Europe/London:20240402T090000
DTEND;TZID=Europe/London:20240402T150000
DTSTAMP:20260420T112537
CREATED:20231024T174437Z
LAST-MODIFIED:20231024T174437Z
UID:10001433-1712048400-1712070000@stboswellsvillagehall.org
SUMMARY:Royal Voluntary Service
DESCRIPTION:
URL:https://stboswellsvillagehall.org/event/royal-voluntary-service-4-2-4/2024-04-02/
LOCATION:St Boswells Village Hall\, Jenny Moores Road\, St Boswells\, Scottish Borders\, TD6 0AL\, United Kingdom
CATEGORIES:Lesser Hall
END:VEVENT
BEGIN:VEVENT
DTSTART;TZID=Europe/London:20240326T090000
DTEND;TZID=Europe/London:20240326T150000
DTSTAMP:20260420T112537
CREATED:20231024T174437Z
LAST-MODIFIED:20231024T174437Z
UID:10001432-1711443600-1711465200@stboswellsvillagehall.org
SUMMARY:Royal Voluntary Service
DESCRIPTION:
URL:https://stboswellsvillagehall.org/event/royal-voluntary-service-4-2-4/2024-03-26/
LOCATION:St Boswells Village Hall\, Jenny Moores Road\, St Boswells\, Scottish Borders\, TD6 0AL\, United Kingdom
CATEGORIES:Lesser Hall
END:VEVENT
BEGIN:VEVENT
DTSTART;TZID=Europe/London:20240319T090000
DTEND;TZID=Europe/London:20240319T150000
DTSTAMP:20260420T112537
CREATED:20231024T174437Z
LAST-MODIFIED:20231024T174437Z
UID:10001431-1710838800-1710860400@stboswellsvillagehall.org
SUMMARY:Royal Voluntary Service
DESCRIPTION:
URL:https://stboswellsvillagehall.org/event/royal-voluntary-service-4-2-4/2024-03-19/
LOCATION:St Boswells Village Hall\, Jenny Moores Road\, St Boswells\, Scottish Borders\, TD6 0AL\, United Kingdom
CATEGORIES:Lesser Hall
END:VEVENT
END:VCALENDAR