BEGIN:VCALENDAR
VERSION:2.0
PRODID:-//St Boswells Village Hall - ECPv6.15.18//NONSGML v1.0//EN
CALSCALE:GREGORIAN
METHOD:PUBLISH
X-WR-CALNAME:St Boswells Village Hall
X-ORIGINAL-URL:https://stboswellsvillagehall.org
X-WR-CALDESC:Events for St Boswells Village Hall
REFRESH-INTERVAL;VALUE=DURATION:PT1H
X-Robots-Tag:noindex
X-PUBLISHED-TTL:PT1H
BEGIN:VTIMEZONE
TZID:Europe/London
BEGIN:DAYLIGHT
TZOFFSETFROM:+0000
TZOFFSETTO:+0100
TZNAME:BST
DTSTART:20260329T010000
END:DAYLIGHT
BEGIN:STANDARD
TZOFFSETFROM:+0100
TZOFFSETTO:+0000
TZNAME:GMT
DTSTART:20261025T010000
END:STANDARD
BEGIN:DAYLIGHT
TZOFFSETFROM:+0000
TZOFFSETTO:+0100
TZNAME:BST
DTSTART:20270328T010000
END:DAYLIGHT
BEGIN:STANDARD
TZOFFSETFROM:+0100
TZOFFSETTO:+0000
TZNAME:GMT
DTSTART:20271031T010000
END:STANDARD
BEGIN:DAYLIGHT
TZOFFSETFROM:+0000
TZOFFSETTO:+0100
TZNAME:BST
DTSTART:20280326T010000
END:DAYLIGHT
BEGIN:STANDARD
TZOFFSETFROM:+0100
TZOFFSETTO:+0000
TZNAME:GMT
DTSTART:20281029T010000
END:STANDARD
END:VTIMEZONE
BEGIN:VEVENT
DTSTART;TZID=Europe/London:20270620T133000
DTEND;TZID=Europe/London:20270620T173000
DTSTAMP:20260421T145358
CREATED:20260317T160928Z
LAST-MODIFIED:20260317T160928Z
UID:10004670-1813498200-1813512600@stboswellsvillagehall.org
SUMMARY:Worship Gatherings
DESCRIPTION:Information for Caretaker: \nNone.
URL:https://stboswellsvillagehall.org/event/worship-gatherings-2/
LOCATION:St Boswells Village Hall\, Jenny Moores Road\, St Boswells\, Scottish Borders\, TD6 0AL\, United Kingdom
CATEGORIES:Kitchen,Lesser Hall,Main Hall
END:VEVENT
BEGIN:VEVENT
DTSTART;TZID=Europe/London:20270627T133000
DTEND;TZID=Europe/London:20270627T173000
DTSTAMP:20260421T145358
CREATED:20260317T160945Z
LAST-MODIFIED:20260317T160945Z
UID:10004671-1814103000-1814117400@stboswellsvillagehall.org
SUMMARY:Worship Gatherings
DESCRIPTION:Information for Caretaker: \nNone.
URL:https://stboswellsvillagehall.org/event/worship-gatherings-3/
LOCATION:St Boswells Village Hall\, Jenny Moores Road\, St Boswells\, Scottish Borders\, TD6 0AL\, United Kingdom
CATEGORIES:Kitchen,Lesser Hall,Main Hall
END:VEVENT
BEGIN:VEVENT
DTSTART;TZID=Europe/London:20270711T133000
DTEND;TZID=Europe/London:20270711T173000
DTSTAMP:20260421T145358
CREATED:20260317T162534Z
LAST-MODIFIED:20260317T162535Z
UID:10004694-1815312600-1815327000@stboswellsvillagehall.org
SUMMARY:Worship Gatherings
DESCRIPTION:Information for Caretaker: \nNone.
URL:https://stboswellsvillagehall.org/event/worship-gatherings-26/
LOCATION:St Boswells Village Hall\, Jenny Moores Road\, St Boswells\, Scottish Borders\, TD6 0AL\, United Kingdom
CATEGORIES:Kitchen,Lesser Hall,Main Hall
END:VEVENT
BEGIN:VEVENT
DTSTART;TZID=Europe/London:20270718T133000
DTEND;TZID=Europe/London:20270718T173000
DTSTAMP:20260421T145358
CREATED:20260317T161002Z
LAST-MODIFIED:20260317T161025Z
UID:10004672-1815917400-1815931800@stboswellsvillagehall.org
SUMMARY:Worship Gatherings
DESCRIPTION:Information for Caretaker: \nNone.
URL:https://stboswellsvillagehall.org/event/worship-gatherings-4/
LOCATION:St Boswells Village Hall\, Jenny Moores Road\, St Boswells\, Scottish Borders\, TD6 0AL\, United Kingdom
CATEGORIES:Kitchen,Lesser Hall,Main Hall
END:VEVENT
BEGIN:VEVENT
DTSTART;TZID=Europe/London:20270808T133000
DTEND;TZID=Europe/London:20270808T173000
DTSTAMP:20260421T145358
CREATED:20260317T161047Z
LAST-MODIFIED:20260317T161047Z
UID:10004673-1817731800-1817746200@stboswellsvillagehall.org
SUMMARY:Worship Gatherings
DESCRIPTION:Information for Caretaker: \nNone.
URL:https://stboswellsvillagehall.org/event/worship-gatherings-5/
LOCATION:St Boswells Village Hall\, Jenny Moores Road\, St Boswells\, Scottish Borders\, TD6 0AL\, United Kingdom
CATEGORIES:Kitchen,Lesser Hall,Main Hall
END:VEVENT
BEGIN:VEVENT
DTSTART;TZID=Europe/London:20270815T133000
DTEND;TZID=Europe/London:20270815T173000
DTSTAMP:20260421T145358
CREATED:20260317T161101Z
LAST-MODIFIED:20260317T161101Z
UID:10004674-1818336600-1818351000@stboswellsvillagehall.org
SUMMARY:Worship Gatherings
DESCRIPTION:Information for Caretaker: \nNone.
URL:https://stboswellsvillagehall.org/event/worship-gatherings-6/
LOCATION:St Boswells Village Hall\, Jenny Moores Road\, St Boswells\, Scottish Borders\, TD6 0AL\, United Kingdom
CATEGORIES:Kitchen,Lesser Hall,Main Hall
END:VEVENT
BEGIN:VEVENT
DTSTART;TZID=Europe/London:20270822T133000
DTEND;TZID=Europe/London:20270822T173000
DTSTAMP:20260421T145358
CREATED:20260317T161117Z
LAST-MODIFIED:20260317T161117Z
UID:10004675-1818941400-1818955800@stboswellsvillagehall.org
SUMMARY:Worship Gatherings
DESCRIPTION:Information for Caretaker: \nNone.
URL:https://stboswellsvillagehall.org/event/worship-gatherings-7/
LOCATION:St Boswells Village Hall\, Jenny Moores Road\, St Boswells\, Scottish Borders\, TD6 0AL\, United Kingdom
CATEGORIES:Kitchen,Lesser Hall,Main Hall
END:VEVENT
BEGIN:VEVENT
DTSTART;TZID=Europe/London:20270912T133000
DTEND;TZID=Europe/London:20270912T173000
DTSTAMP:20260421T145358
CREATED:20260317T161137Z
LAST-MODIFIED:20260317T161158Z
UID:10004676-1820755800-1820770200@stboswellsvillagehall.org
SUMMARY:Worship Gatherings
DESCRIPTION:Information for Caretaker: \nNone.
URL:https://stboswellsvillagehall.org/event/worship-gatherings-8/
LOCATION:St Boswells Village Hall\, Jenny Moores Road\, St Boswells\, Scottish Borders\, TD6 0AL\, United Kingdom
CATEGORIES:Kitchen,Lesser Hall,Main Hall
END:VEVENT
BEGIN:VEVENT
DTSTART;TZID=Europe/London:20270919T133000
DTEND;TZID=Europe/London:20270919T173000
DTSTAMP:20260421T145358
CREATED:20260317T161215Z
LAST-MODIFIED:20260317T161215Z
UID:10004677-1821360600-1821375000@stboswellsvillagehall.org
SUMMARY:Worship Gatherings
DESCRIPTION:Information for Caretaker: \nNone.
URL:https://stboswellsvillagehall.org/event/worship-gatherings-9/
LOCATION:St Boswells Village Hall\, Jenny Moores Road\, St Boswells\, Scottish Borders\, TD6 0AL\, United Kingdom
CATEGORIES:Kitchen,Lesser Hall,Main Hall
END:VEVENT
BEGIN:VEVENT
DTSTART;TZID=Europe/London:20271010T133000
DTEND;TZID=Europe/London:20271010T173000
DTSTAMP:20260421T145358
CREATED:20260317T161229Z
LAST-MODIFIED:20260317T161229Z
UID:10004678-1823175000-1823189400@stboswellsvillagehall.org
SUMMARY:Worship Gatherings
DESCRIPTION:Information for Caretaker: \nNone.
URL:https://stboswellsvillagehall.org/event/worship-gatherings-10/
LOCATION:St Boswells Village Hall\, Jenny Moores Road\, St Boswells\, Scottish Borders\, TD6 0AL\, United Kingdom
CATEGORIES:Kitchen,Lesser Hall,Main Hall
END:VEVENT
BEGIN:VEVENT
DTSTART;TZID=Europe/London:20271017T133000
DTEND;TZID=Europe/London:20271017T173000
DTSTAMP:20260421T145358
CREATED:20260317T161240Z
LAST-MODIFIED:20260317T161240Z
UID:10004679-1823779800-1823794200@stboswellsvillagehall.org
SUMMARY:Worship Gatherings
DESCRIPTION:Information for Caretaker: \nNone.
URL:https://stboswellsvillagehall.org/event/worship-gatherings-11/
LOCATION:St Boswells Village Hall\, Jenny Moores Road\, St Boswells\, Scottish Borders\, TD6 0AL\, United Kingdom
CATEGORIES:Kitchen,Lesser Hall,Main Hall
END:VEVENT
BEGIN:VEVENT
DTSTART;TZID=Europe/London:20271024T133000
DTEND;TZID=Europe/London:20271024T173000
DTSTAMP:20260421T145358
CREATED:20260317T161255Z
LAST-MODIFIED:20260317T161255Z
UID:10004680-1824384600-1824399000@stboswellsvillagehall.org
SUMMARY:Worship Gatherings
DESCRIPTION:Information for Caretaker: \nNone.
URL:https://stboswellsvillagehall.org/event/worship-gatherings-12/
LOCATION:St Boswells Village Hall\, Jenny Moores Road\, St Boswells\, Scottish Borders\, TD6 0AL\, United Kingdom
CATEGORIES:Kitchen,Lesser Hall,Main Hall
END:VEVENT
BEGIN:VEVENT
DTSTART;TZID=Europe/London:20271031T133000
DTEND;TZID=Europe/London:20271031T173000
DTSTAMP:20260421T145358
CREATED:20260317T161305Z
LAST-MODIFIED:20260317T161305Z
UID:10004681-1824989400-1825003800@stboswellsvillagehall.org
SUMMARY:Worship Gatherings
DESCRIPTION:Information for Caretaker: \nNone.
URL:https://stboswellsvillagehall.org/event/worship-gatherings-13/
LOCATION:St Boswells Village Hall\, Jenny Moores Road\, St Boswells\, Scottish Borders\, TD6 0AL\, United Kingdom
CATEGORIES:Kitchen,Lesser Hall,Main Hall
END:VEVENT
BEGIN:VEVENT
DTSTART;TZID=Europe/London:20271114T133000
DTEND;TZID=Europe/London:20271114T173000
DTSTAMP:20260421T145358
CREATED:20260317T161327Z
LAST-MODIFIED:20260317T161327Z
UID:10004682-1826199000-1826213400@stboswellsvillagehall.org
SUMMARY:Worship Gatherings
DESCRIPTION:Information for Caretaker: \nNone.
URL:https://stboswellsvillagehall.org/event/worship-gatherings-14/
LOCATION:St Boswells Village Hall\, Jenny Moores Road\, St Boswells\, Scottish Borders\, TD6 0AL\, United Kingdom
CATEGORIES:Kitchen,Lesser Hall,Main Hall
END:VEVENT
BEGIN:VEVENT
DTSTART;TZID=Europe/London:20271121T133000
DTEND;TZID=Europe/London:20271121T173000
DTSTAMP:20260421T145358
CREATED:20260317T161339Z
LAST-MODIFIED:20260317T161339Z
UID:10004683-1826803800-1826818200@stboswellsvillagehall.org
SUMMARY:Worship Gatherings
DESCRIPTION:Information for Caretaker: \nNone.
URL:https://stboswellsvillagehall.org/event/worship-gatherings-15/
LOCATION:St Boswells Village Hall\, Jenny Moores Road\, St Boswells\, Scottish Borders\, TD6 0AL\, United Kingdom
CATEGORIES:Kitchen,Lesser Hall,Main Hall
END:VEVENT
BEGIN:VEVENT
DTSTART;TZID=Europe/London:20271219T133000
DTEND;TZID=Europe/London:20271219T173000
DTSTAMP:20260421T145358
CREATED:20260317T161355Z
LAST-MODIFIED:20260317T161355Z
UID:10004684-1829223000-1829237400@stboswellsvillagehall.org
SUMMARY:Worship Gatherings
DESCRIPTION:Information for Caretaker: \nNone.
URL:https://stboswellsvillagehall.org/event/worship-gatherings-16/
LOCATION:St Boswells Village Hall\, Jenny Moores Road\, St Boswells\, Scottish Borders\, TD6 0AL\, United Kingdom
CATEGORIES:Kitchen,Lesser Hall,Main Hall
END:VEVENT
END:VCALENDAR