BEGIN:VCALENDAR
VERSION:2.0
PRODID:-//St Boswells Village Hall - ECPv6.15.18//NONSGML v1.0//EN
CALSCALE:GREGORIAN
METHOD:PUBLISH
X-ORIGINAL-URL:https://stboswellsvillagehall.org
X-WR-CALDESC:Events for St Boswells Village Hall
REFRESH-INTERVAL;VALUE=DURATION:PT1H
X-Robots-Tag:noindex
X-PUBLISHED-TTL:PT1H
BEGIN:VTIMEZONE
TZID:Europe/London
BEGIN:DAYLIGHT
TZOFFSETFROM:+0000
TZOFFSETTO:+0100
TZNAME:BST
DTSTART:20230326T010000
END:DAYLIGHT
BEGIN:STANDARD
TZOFFSETFROM:+0100
TZOFFSETTO:+0000
TZNAME:GMT
DTSTART:20231029T010000
END:STANDARD
BEGIN:DAYLIGHT
TZOFFSETFROM:+0000
TZOFFSETTO:+0100
TZNAME:BST
DTSTART:20240331T010000
END:DAYLIGHT
BEGIN:STANDARD
TZOFFSETFROM:+0100
TZOFFSETTO:+0000
TZNAME:GMT
DTSTART:20241027T010000
END:STANDARD
BEGIN:DAYLIGHT
TZOFFSETFROM:+0000
TZOFFSETTO:+0100
TZNAME:BST
DTSTART:20250330T010000
END:DAYLIGHT
BEGIN:STANDARD
TZOFFSETFROM:+0100
TZOFFSETTO:+0000
TZNAME:GMT
DTSTART:20251026T010000
END:STANDARD
BEGIN:DAYLIGHT
TZOFFSETFROM:+0000
TZOFFSETTO:+0100
TZNAME:BST
DTSTART:20260329T010000
END:DAYLIGHT
BEGIN:STANDARD
TZOFFSETFROM:+0100
TZOFFSETTO:+0000
TZNAME:GMT
DTSTART:20261025T010000
END:STANDARD
END:VTIMEZONE
BEGIN:VEVENT
DTSTART;TZID=Europe/London:20250801T090000
DTEND;TZID=Europe/London:20250801T170000
DTSTAMP:20260421T145215
CREATED:20250730T080812Z
LAST-MODIFIED:20250730T080942Z
UID:10003446-1754038800-1754067600@stboswellsvillagehall.org
SUMMARY:Aberlour Options
DESCRIPTION:
URL:https://stboswellsvillagehall.org/event/aberlour-options/
CATEGORIES:Upper Hall
END:VEVENT
BEGIN:VEVENT
DTSTART;TZID=Europe/London:20250614T083000
DTEND;TZID=Europe/London:20250614T170000
DTSTAMP:20260421T145215
CREATED:20250211T163752Z
LAST-MODIFIED:20250211T163752Z
UID:10002937-1749889800-1749920400@stboswellsvillagehall.org
SUMMARY:Staff Training
DESCRIPTION:
URL:https://stboswellsvillagehall.org/event/staff-training/
CATEGORIES:Lesser Hall
END:VEVENT
BEGIN:VEVENT
DTSTART;TZID=Europe/London:20240614T080000
DTEND;TZID=Europe/London:20240614T170000
DTSTAMP:20260421T145215
CREATED:20240526T155836Z
LAST-MODIFIED:20240526T155836Z
UID:10002245-1718352000-1718384400@stboswellsvillagehall.org
SUMMARY:Aberlour Options Borders
DESCRIPTION:
URL:https://stboswellsvillagehall.org/event/aberlour-options-borders/
CATEGORIES:Lesser Hall
END:VEVENT
END:VCALENDAR