BEGIN:VCALENDAR
VERSION:2.0
PRODID:-//St Boswells Village Hall - ECPv6.15.18//NONSGML v1.0//EN
CALSCALE:GREGORIAN
METHOD:PUBLISH
X-ORIGINAL-URL:https://stboswellsvillagehall.org
X-WR-CALDESC:Events for St Boswells Village Hall
REFRESH-INTERVAL;VALUE=DURATION:PT1H
X-Robots-Tag:noindex
X-PUBLISHED-TTL:PT1H
BEGIN:VTIMEZONE
TZID:Europe/London
BEGIN:DAYLIGHT
TZOFFSETFROM:+0000
TZOFFSETTO:+0100
TZNAME:BST
DTSTART:20210328T010000
END:DAYLIGHT
BEGIN:STANDARD
TZOFFSETFROM:+0100
TZOFFSETTO:+0000
TZNAME:GMT
DTSTART:20211031T010000
END:STANDARD
BEGIN:DAYLIGHT
TZOFFSETFROM:+0000
TZOFFSETTO:+0100
TZNAME:BST
DTSTART:20220327T010000
END:DAYLIGHT
BEGIN:STANDARD
TZOFFSETFROM:+0100
TZOFFSETTO:+0000
TZNAME:GMT
DTSTART:20221030T010000
END:STANDARD
BEGIN:DAYLIGHT
TZOFFSETFROM:+0000
TZOFFSETTO:+0100
TZNAME:BST
DTSTART:20230326T010000
END:DAYLIGHT
BEGIN:STANDARD
TZOFFSETFROM:+0100
TZOFFSETTO:+0000
TZNAME:GMT
DTSTART:20231029T010000
END:STANDARD
BEGIN:DAYLIGHT
TZOFFSETFROM:+0000
TZOFFSETTO:+0100
TZNAME:BST
DTSTART:20240331T010000
END:DAYLIGHT
BEGIN:STANDARD
TZOFFSETFROM:+0100
TZOFFSETTO:+0000
TZNAME:GMT
DTSTART:20241027T010000
END:STANDARD
BEGIN:DAYLIGHT
TZOFFSETFROM:+0000
TZOFFSETTO:+0100
TZNAME:BST
DTSTART:20250330T010000
END:DAYLIGHT
BEGIN:STANDARD
TZOFFSETFROM:+0100
TZOFFSETTO:+0000
TZNAME:GMT
DTSTART:20251026T010000
END:STANDARD
BEGIN:DAYLIGHT
TZOFFSETFROM:+0000
TZOFFSETTO:+0100
TZNAME:BST
DTSTART:20260329T010000
END:DAYLIGHT
BEGIN:STANDARD
TZOFFSETFROM:+0100
TZOFFSETTO:+0000
TZNAME:GMT
DTSTART:20261025T010000
END:STANDARD
BEGIN:DAYLIGHT
TZOFFSETFROM:+0000
TZOFFSETTO:+0100
TZNAME:BST
DTSTART:20270328T010000
END:DAYLIGHT
BEGIN:STANDARD
TZOFFSETFROM:+0100
TZOFFSETTO:+0000
TZNAME:GMT
DTSTART:20271031T010000
END:STANDARD
END:VTIMEZONE
BEGIN:VEVENT
DTSTART;TZID=Europe/London:20260225T130000
DTEND;TZID=Europe/London:20260225T150000
DTSTAMP:20260421T112934
CREATED:20260223T143746Z
LAST-MODIFIED:20260223T144010Z
UID:10003510-1772024400-1772031600@stboswellsvillagehall.org
SUMMARY:Borders Model Boat Club
DESCRIPTION:Information for caretaker: \nCan we have 1 large table in the small meeting room for our meeting\nWe will organise the chairs ourselve
URL:https://stboswellsvillagehall.org/event/borders-model-boat-club-8-2/
CATEGORIES:Lesser Hall
END:VEVENT
BEGIN:VEVENT
DTSTART;TZID=Europe/London:20250326T124500
DTEND;TZID=Europe/London:20250326T150000
DTSTAMP:20260421T112934
CREATED:20240810T163914Z
LAST-MODIFIED:20240810T163914Z
UID:10002389-1742993100-1743001200@stboswellsvillagehall.org
SUMMARY:Borders Model Boat Club
DESCRIPTION:
URL:https://stboswellsvillagehall.org/event/borders-model-boat-club-12/
CATEGORIES:Lesser Hall
END:VEVENT
BEGIN:VEVENT
DTSTART;TZID=Europe/London:20250226T124500
DTEND;TZID=Europe/London:20250226T150000
DTSTAMP:20260421T112934
CREATED:20240810T163833Z
LAST-MODIFIED:20240810T163833Z
UID:10002388-1740573900-1740582000@stboswellsvillagehall.org
SUMMARY:Borders Model Boat Club
DESCRIPTION:
URL:https://stboswellsvillagehall.org/event/borders-model-boat-club-11/
CATEGORIES:Lesser Hall
END:VEVENT
BEGIN:VEVENT
DTSTART;TZID=Europe/London:20250129T124500
DTEND;TZID=Europe/London:20250129T150000
DTSTAMP:20260421T112934
CREATED:20240810T163743Z
LAST-MODIFIED:20240810T163743Z
UID:10002387-1738154700-1738162800@stboswellsvillagehall.org
SUMMARY:Borders Model Boat Club
DESCRIPTION:
URL:https://stboswellsvillagehall.org/event/borders-model-boat-club-10/
CATEGORIES:Lesser Hall
END:VEVENT
BEGIN:VEVENT
DTSTART;TZID=Europe/London:20241127T124500
DTEND;TZID=Europe/London:20241127T150000
DTSTAMP:20260421T112934
CREATED:20240810T163653Z
LAST-MODIFIED:20240810T163653Z
UID:10002386-1732711500-1732719600@stboswellsvillagehall.org
SUMMARY:Borders Model Boat Club
DESCRIPTION:
URL:https://stboswellsvillagehall.org/event/borders-model-boat-club-9/
CATEGORIES:Lesser Hall
END:VEVENT
BEGIN:VEVENT
DTSTART;TZID=Europe/London:20241102T093000
DTEND;TZID=Europe/London:20241102T120000
DTSTAMP:20260421T112934
CREATED:20240831T115248Z
LAST-MODIFIED:20240831T115248Z
UID:10002417-1730539800-1730548800@stboswellsvillagehall.org
SUMMARY:Model Boat Club
DESCRIPTION:
URL:https://stboswellsvillagehall.org/event/model-boat-club/
CATEGORIES:Main Hall
END:VEVENT
BEGIN:VEVENT
DTSTART;TZID=Europe/London:20240403T130000
DTEND;TZID=Europe/London:20240403T150000
DTSTAMP:20260421T112934
CREATED:20230806T122551Z
LAST-MODIFIED:20240320T132219Z
UID:10001224-1712149200-1712156400@stboswellsvillagehall.org
SUMMARY:Borders Model Boat Club
DESCRIPTION:
URL:https://stboswellsvillagehall.org/event/borders-model-boat-club-7/
LOCATION:St Boswells Village Hall\, Jenny Moores Road\, St Boswells\, Scottish Borders\, TD6 0AL\, United Kingdom
CATEGORIES:Lesser Hall
END:VEVENT
BEGIN:VEVENT
DTSTART;TZID=Europe/London:20240228T130000
DTEND;TZID=Europe/London:20240228T150000
DTSTAMP:20260421T112934
CREATED:20230806T122505Z
LAST-MODIFIED:20230806T122505Z
UID:10001223-1709125200-1709132400@stboswellsvillagehall.org
SUMMARY:Borders Model Boat Club
DESCRIPTION:
URL:https://stboswellsvillagehall.org/event/borders-model-boat-club-6/
LOCATION:St Boswells Village Hall\, Jenny Moores Road\, St Boswells\, Scottish Borders\, TD6 0AL\, United Kingdom
CATEGORIES:Lesser Hall
END:VEVENT
BEGIN:VEVENT
DTSTART;TZID=Europe/London:20240131T130000
DTEND;TZID=Europe/London:20240131T150000
DTSTAMP:20260421T112934
CREATED:20230806T122414Z
LAST-MODIFIED:20230806T122414Z
UID:10001222-1706706000-1706713200@stboswellsvillagehall.org
SUMMARY:Borders Model Boat Club
DESCRIPTION:
URL:https://stboswellsvillagehall.org/event/borders-model-boat-club-5/
LOCATION:St Boswells Village Hall\, Jenny Moores Road\, St Boswells\, Scottish Borders\, TD6 0AL\, United Kingdom
CATEGORIES:Lesser Hall
END:VEVENT
BEGIN:VEVENT
DTSTART;TZID=Europe/London:20231129T130000
DTEND;TZID=Europe/London:20231129T150000
DTSTAMP:20260421T112934
CREATED:20230806T122330Z
LAST-MODIFIED:20230806T122330Z
UID:10001221-1701262800-1701270000@stboswellsvillagehall.org
SUMMARY:Borders Model Boat Club
DESCRIPTION:
URL:https://stboswellsvillagehall.org/event/borders-model-boat-club-4/
LOCATION:St Boswells Village Hall\, Jenny Moores Road\, St Boswells\, Scottish Borders\, TD6 0AL\, United Kingdom
CATEGORIES:Lesser Hall
END:VEVENT
BEGIN:VEVENT
DTSTART;TZID=Europe/London:20231018T130000
DTEND;TZID=Europe/London:20231018T150000
DTSTAMP:20260421T112934
CREATED:20230806T122241Z
LAST-MODIFIED:20230912T132325Z
UID:10001220-1697634000-1697641200@stboswellsvillagehall.org
SUMMARY:Borders Model Boat Club
DESCRIPTION:
URL:https://stboswellsvillagehall.org/event/borders-model-boat-club-2/
LOCATION:St Boswells Village Hall\, Jenny Moores Road\, St Boswells\, Scottish Borders\, TD6 0AL\, United Kingdom
CATEGORIES:Lesser Hall
END:VEVENT
BEGIN:VEVENT
DTSTART;TZID=Europe/London:20230329T124500
DTEND;TZID=Europe/London:20230329T154500
DTSTAMP:20260421T112934
CREATED:20220907T081800Z
LAST-MODIFIED:20220907T081800Z
UID:10000940-1680093900-1680104700@stboswellsvillagehall.org
SUMMARY:BODERS MODEL BOAT CLUB MEETING
DESCRIPTION:
URL:https://stboswellsvillagehall.org/event/boders-model-boat-club-meeting/
LOCATION:St Boswells Village Hall\, Jenny Moores Road\, St Boswells\, Scottish Borders\, TD6 0AL\, United Kingdom
CATEGORIES:Lesser Hall
END:VEVENT
BEGIN:VEVENT
DTSTART;TZID=Europe/London:20230222T124500
DTEND;TZID=Europe/London:20230222T154500
DTSTAMP:20260421T112934
CREATED:20220907T081607Z
LAST-MODIFIED:20220907T081607Z
UID:10000939-1677069900-1677080700@stboswellsvillagehall.org
SUMMARY:BORDERS MODEL BOAT CLUB MEETING
DESCRIPTION:
URL:https://stboswellsvillagehall.org/event/borders-model-boat-club-meeting-3/
LOCATION:St Boswells Village Hall\, Jenny Moores Road\, St Boswells\, Scottish Borders\, TD6 0AL\, United Kingdom
CATEGORIES:Lesser Hall
END:VEVENT
BEGIN:VEVENT
DTSTART;TZID=Europe/London:20230125T124500
DTEND;TZID=Europe/London:20230125T154500
DTSTAMP:20260421T112934
CREATED:20220907T081402Z
LAST-MODIFIED:20220907T081402Z
UID:10000938-1674650700-1674661500@stboswellsvillagehall.org
SUMMARY:BORDERS MODEL BOAT CLUB MEETING
DESCRIPTION:
URL:https://stboswellsvillagehall.org/event/borders-model-boat-club-meeting-2/
LOCATION:St Boswells Village Hall\, Jenny Moores Road\, St Boswells\, Scottish Borders\, TD6 0AL\, United Kingdom
CATEGORIES:Lesser Hall
END:VEVENT
BEGIN:VEVENT
DTSTART;TZID=Europe/London:20221130T124500
DTEND;TZID=Europe/London:20221130T154500
DTSTAMP:20260421T112934
CREATED:20220907T081130Z
LAST-MODIFIED:20220907T081130Z
UID:10000937-1669812300-1669823100@stboswellsvillagehall.org
SUMMARY:BORDERS MODEL BOAT CLUB MEETING
DESCRIPTION:
URL:https://stboswellsvillagehall.org/event/borders-model-boat-club-meeting/
LOCATION:St Boswells Village Hall\, Jenny Moores Road\, St Boswells\, Scottish Borders\, TD6 0AL\, United Kingdom
CATEGORIES:Lesser Hall
END:VEVENT
BEGIN:VEVENT
DTSTART;TZID=Europe/London:20221026T124500
DTEND;TZID=Europe/London:20221026T154500
DTSTAMP:20260421T112934
CREATED:20220907T080918Z
LAST-MODIFIED:20220907T080918Z
UID:10000936-1666788300-1666799100@stboswellsvillagehall.org
SUMMARY:BORDERS MODEL BOAT CLUB - AGM
DESCRIPTION:
URL:https://stboswellsvillagehall.org/event/borders-model-boat-club-agm/
LOCATION:St Boswells Village Hall\, Jenny Moores Road\, St Boswells\, Scottish Borders\, TD6 0AL\, United Kingdom
CATEGORIES:Main Hall
END:VEVENT
END:VCALENDAR