BEGIN:VCALENDAR
VERSION:2.0
PRODID:-//St Boswells Village Hall - ECPv6.15.18//NONSGML v1.0//EN
CALSCALE:GREGORIAN
METHOD:PUBLISH
X-WR-CALNAME:St Boswells Village Hall
X-ORIGINAL-URL:https://stboswellsvillagehall.org
X-WR-CALDESC:Events for St Boswells Village Hall
REFRESH-INTERVAL;VALUE=DURATION:PT1H
X-Robots-Tag:noindex
X-PUBLISHED-TTL:PT1H
BEGIN:VTIMEZONE
TZID:Europe/London
BEGIN:DAYLIGHT
TZOFFSETFROM:+0000
TZOFFSETTO:+0100
TZNAME:BST
DTSTART:20210328T010000
END:DAYLIGHT
BEGIN:STANDARD
TZOFFSETFROM:+0100
TZOFFSETTO:+0000
TZNAME:GMT
DTSTART:20211031T010000
END:STANDARD
BEGIN:DAYLIGHT
TZOFFSETFROM:+0000
TZOFFSETTO:+0100
TZNAME:BST
DTSTART:20220327T010000
END:DAYLIGHT
BEGIN:STANDARD
TZOFFSETFROM:+0100
TZOFFSETTO:+0000
TZNAME:GMT
DTSTART:20221030T010000
END:STANDARD
BEGIN:DAYLIGHT
TZOFFSETFROM:+0000
TZOFFSETTO:+0100
TZNAME:BST
DTSTART:20230326T010000
END:DAYLIGHT
BEGIN:STANDARD
TZOFFSETFROM:+0100
TZOFFSETTO:+0000
TZNAME:GMT
DTSTART:20231029T010000
END:STANDARD
BEGIN:DAYLIGHT
TZOFFSETFROM:+0000
TZOFFSETTO:+0100
TZNAME:BST
DTSTART:20240331T010000
END:DAYLIGHT
BEGIN:STANDARD
TZOFFSETFROM:+0100
TZOFFSETTO:+0000
TZNAME:GMT
DTSTART:20241027T010000
END:STANDARD
BEGIN:DAYLIGHT
TZOFFSETFROM:+0000
TZOFFSETTO:+0100
TZNAME:BST
DTSTART:20250330T010000
END:DAYLIGHT
BEGIN:STANDARD
TZOFFSETFROM:+0100
TZOFFSETTO:+0000
TZNAME:GMT
DTSTART:20251026T010000
END:STANDARD
END:VTIMEZONE
BEGIN:VEVENT
DTSTART;TZID=Europe/London:20240427T090000
DTEND;TZID=Europe/London:20240427T130000
DTSTAMP:20260421T095709
CREATED:20230919T111856Z
LAST-MODIFIED:20230919T111856Z
UID:10001333-1714208400-1714222800@stboswellsvillagehall.org
SUMMARY:SWI Coffee Morning
DESCRIPTION:
URL:https://stboswellsvillagehall.org/event/swi-coffee-morning/
LOCATION:St Boswells Village Hall\, Jenny Moores Road\, St Boswells\, Scottish Borders\, TD6 0AL\, United Kingdom
CATEGORIES:Main Hall
END:VEVENT
BEGIN:VEVENT
DTSTART;TZID=Europe/London:20240409T183000
DTEND;TZID=Europe/London:20240409T220000
DTSTAMP:20260421T095709
CREATED:20231114T150118Z
LAST-MODIFIED:20240205T130002Z
UID:10001546-1712687400-1712700000@stboswellsvillagehall.org
SUMMARY:St Boswells SWI
DESCRIPTION:
URL:https://stboswellsvillagehall.org/event/st-boswells-swi-4/
CATEGORIES:Main Hall
END:VEVENT
BEGIN:VEVENT
DTSTART;TZID=Europe/London:20240312T190000
DTEND;TZID=Europe/London:20240312T220000
DTSTAMP:20260421T095709
CREATED:20231114T150036Z
LAST-MODIFIED:20231226T165944Z
UID:10001545-1710270000-1710280800@stboswellsvillagehall.org
SUMMARY:St Boswells SWI
DESCRIPTION:
URL:https://stboswellsvillagehall.org/event/st-boswells-swi-3/
CATEGORIES:Main Hall
END:VEVENT
BEGIN:VEVENT
DTSTART;TZID=Europe/London:20240213T190000
DTEND;TZID=Europe/London:20240213T220000
DTSTAMP:20260421T095709
CREATED:20231114T150000Z
LAST-MODIFIED:20231114T150000Z
UID:10001544-1707850800-1707861600@stboswellsvillagehall.org
SUMMARY:St Boswells SWI
DESCRIPTION:
URL:https://stboswellsvillagehall.org/event/st-boswells-swi-2/
CATEGORIES:Lesser Hall
END:VEVENT
BEGIN:VEVENT
DTSTART;TZID=Europe/London:20240129T070000
DTEND;TZID=Europe/London:20240129T200000
DTSTAMP:20260421T095709
CREATED:20240110T172738Z
LAST-MODIFIED:20240110T172738Z
UID:10001820-1706511600-1706558400@stboswellsvillagehall.org
SUMMARY:Village Week Committee Meeting
DESCRIPTION:
URL:https://stboswellsvillagehall.org/event/village-week-committee-meeting-3/
CATEGORIES:Lesser Hall
END:VEVENT
BEGIN:VEVENT
DTSTART;TZID=Europe/London:20240109T190000
DTEND;TZID=Europe/London:20240109T220000
DTSTAMP:20260421T095709
CREATED:20231114T145911Z
LAST-MODIFIED:20231114T145911Z
UID:10001543-1704826800-1704837600@stboswellsvillagehall.org
SUMMARY:St Boswells SWI
DESCRIPTION:
URL:https://stboswellsvillagehall.org/event/st-boswells-swi/
CATEGORIES:Lesser Hall
END:VEVENT
BEGIN:VEVENT
DTSTART;TZID=Europe/London:20231213T190000
DTEND;TZID=Europe/London:20231213T220000
DTSTAMP:20260421T095709
CREATED:20221112T153930Z
LAST-MODIFIED:20230919T105829Z
UID:10000963-1702494000-1702504800@stboswellsvillagehall.org
SUMMARY:SWI
DESCRIPTION:
URL:https://stboswellsvillagehall.org/event/swi-19/
LOCATION:St Boswells Village Hall\, Jenny Moores Road\, St Boswells\, Scottish Borders\, TD6 0AL\, United Kingdom
CATEGORIES:Lesser Hall
END:VEVENT
BEGIN:VEVENT
DTSTART;TZID=Europe/London:20231114T190000
DTEND;TZID=Europe/London:20231114T220000
DTSTAMP:20260421T095709
CREATED:20221112T153840Z
LAST-MODIFIED:20221112T153840Z
UID:10000962-1699988400-1699999200@stboswellsvillagehall.org
SUMMARY:SWI
DESCRIPTION:
URL:https://stboswellsvillagehall.org/event/swi-18/
LOCATION:St Boswells Village Hall\, Jenny Moores Road\, St Boswells\, Scottish Borders\, TD6 0AL\, United Kingdom
CATEGORIES:Lesser Hall
END:VEVENT
BEGIN:VEVENT
DTSTART;TZID=Europe/London:20231027T180000
DTEND;TZID=Europe/London:20231027T223000
DTSTAMP:20260421T095709
CREATED:20230224T141510Z
LAST-MODIFIED:20230224T141510Z
UID:10000719-1698429600-1698445800@stboswellsvillagehall.org
SUMMARY:Bosells Buddies Quiz Night
DESCRIPTION:
URL:https://stboswellsvillagehall.org/event/bosells-buddies-quiz-night/
LOCATION:St Boswells Village Hall\, Jenny Moores Road\, St Boswells\, Scottish Borders\, TD6 0AL\, United Kingdom
CATEGORIES:Main Hall
END:VEVENT
BEGIN:VEVENT
DTSTART;TZID=Europe/London:20231010T190000
DTEND;TZID=Europe/London:20231010T220000
DTSTAMP:20260421T095709
CREATED:20221112T153747Z
LAST-MODIFIED:20221112T153747Z
UID:10000961-1696964400-1696975200@stboswellsvillagehall.org
SUMMARY:SWI
DESCRIPTION:
URL:https://stboswellsvillagehall.org/event/swi-17/
LOCATION:St Boswells Village Hall\, Jenny Moores Road\, St Boswells\, Scottish Borders\, TD6 0AL\, United Kingdom
CATEGORIES:Lesser Hall
END:VEVENT
BEGIN:VEVENT
DTSTART;TZID=Europe/London:20230912T190000
DTEND;TZID=Europe/London:20230912T220000
DTSTAMP:20260421T095709
CREATED:20221112T153640Z
LAST-MODIFIED:20221112T153640Z
UID:10000960-1694545200-1694556000@stboswellsvillagehall.org
SUMMARY:SWI
DESCRIPTION:
URL:https://stboswellsvillagehall.org/event/swi-16/
LOCATION:St Boswells Village Hall\, Jenny Moores Road\, St Boswells\, Scottish Borders\, TD6 0AL\, United Kingdom
CATEGORIES:Lesser Hall
END:VEVENT
BEGIN:VEVENT
DTSTART;TZID=Europe/London:20230718T183000
DTEND;TZID=Europe/London:20230718T200000
DTSTAMP:20260421T095709
CREATED:20230718T133717Z
LAST-MODIFIED:20230718T133717Z
UID:10001209-1689705000-1689710400@stboswellsvillagehall.org
SUMMARY:Village Hall - CH
DESCRIPTION:
URL:https://stboswellsvillagehall.org/event/village-hall-ch/
LOCATION:St Boswells Village Hall\, Jenny Moores Road\, St Boswells\, Scottish Borders\, TD6 0AL\, United Kingdom
CATEGORIES:Lesser Hall
END:VEVENT
BEGIN:VEVENT
DTSTART;TZID=Europe/London:20230613T190000
DTEND;TZID=Europe/London:20230613T220000
DTSTAMP:20260421T095709
CREATED:20221112T153543Z
LAST-MODIFIED:20221112T153543Z
UID:10000959-1686682800-1686693600@stboswellsvillagehall.org
SUMMARY:SWI
DESCRIPTION:
URL:https://stboswellsvillagehall.org/event/swi-15/
LOCATION:St Boswells Village Hall\, Jenny Moores Road\, St Boswells\, Scottish Borders\, TD6 0AL\, United Kingdom
CATEGORIES:Lesser Hall
END:VEVENT
BEGIN:VEVENT
DTSTART;TZID=Europe/London:20230601T120000
DTEND;TZID=Europe/London:20230601T180000
DTSTAMP:20260421T095709
CREATED:20230127T140633Z
LAST-MODIFIED:20230127T140633Z
UID:10000690-1685620800-1685642400@stboswellsvillagehall.org
SUMMARY:Village Week Afternoon Tea
DESCRIPTION:
URL:https://stboswellsvillagehall.org/event/village-week-afternoon-tea/
LOCATION:St Boswells Village Hall\, Jenny Moores Road\, St Boswells\, Scottish Borders\, TD6 0AL\, United Kingdom
CATEGORIES:Main Hall
END:VEVENT
BEGIN:VEVENT
DTSTART;TZID=Europe/London:20230530T180000
DTEND;TZID=Europe/London:20230530T220000
DTSTAMP:20260421T095709
CREATED:20230125T164337Z
LAST-MODIFIED:20230125T164337Z
UID:10001110-1685469600-1685484000@stboswellsvillagehall.org
SUMMARY:Village Week - Games Night
DESCRIPTION:
URL:https://stboswellsvillagehall.org/event/village-week-games-night/
LOCATION:St Boswells Village Hall\, Jenny Moores Road\, St Boswells\, Scottish Borders\, TD6 0AL\, United Kingdom
CATEGORIES:Main Hall
END:VEVENT
BEGIN:VEVENT
DTSTART;TZID=Europe/London:20230518T130000
DTEND;TZID=Europe/London:20230518T160000
DTSTAMP:20260421T095709
CREATED:20221112T154728Z
LAST-MODIFIED:20221112T154728Z
UID:10000968-1684414800-1684425600@stboswellsvillagehall.org
SUMMARY:Bosell Buddies
DESCRIPTION:
URL:https://stboswellsvillagehall.org/event/bosell-buddies-6/
LOCATION:St Boswells Village Hall\, Jenny Moores Road\, St Boswells\, Scottish Borders\, TD6 0AL\, United Kingdom
CATEGORIES:Main Hall
END:VEVENT
BEGIN:VEVENT
DTSTART;TZID=Europe/London:20230509T190000
DTEND;TZID=Europe/London:20230509T220000
DTSTAMP:20260421T095709
CREATED:20221112T153439Z
LAST-MODIFIED:20221112T153439Z
UID:10000958-1683658800-1683669600@stboswellsvillagehall.org
SUMMARY:SWI
DESCRIPTION:
URL:https://stboswellsvillagehall.org/event/swi-14/
LOCATION:St Boswells Village Hall\, Jenny Moores Road\, St Boswells\, Scottish Borders\, TD6 0AL\, United Kingdom
CATEGORIES:Lesser Hall
END:VEVENT
BEGIN:VEVENT
DTSTART;TZID=Europe/London:20230420T130000
DTEND;TZID=Europe/London:20230420T160000
DTSTAMP:20260421T095709
CREATED:20221112T154634Z
LAST-MODIFIED:20221112T154634Z
UID:10000967-1681995600-1682006400@stboswellsvillagehall.org
SUMMARY:Bosell Buddies
DESCRIPTION:
URL:https://stboswellsvillagehall.org/event/bosell-buddies-5/
LOCATION:St Boswells Village Hall\, Jenny Moores Road\, St Boswells\, Scottish Borders\, TD6 0AL\, United Kingdom
CATEGORIES:Main Hall
END:VEVENT
BEGIN:VEVENT
DTSTART;TZID=Europe/London:20230411T190000
DTEND;TZID=Europe/London:20230411T220000
DTSTAMP:20260421T095709
CREATED:20221112T153342Z
LAST-MODIFIED:20221112T153342Z
UID:10000957-1681239600-1681250400@stboswellsvillagehall.org
SUMMARY:SWI
DESCRIPTION:
URL:https://stboswellsvillagehall.org/event/swi-13/
LOCATION:St Boswells Village Hall\, Jenny Moores Road\, St Boswells\, Scottish Borders\, TD6 0AL\, United Kingdom
CATEGORIES:Lesser Hall
END:VEVENT
BEGIN:VEVENT
DTSTART;TZID=Europe/London:20230316T130000
DTEND;TZID=Europe/London:20230316T160000
DTSTAMP:20260421T095709
CREATED:20221112T154547Z
LAST-MODIFIED:20221112T154547Z
UID:10000966-1678971600-1678982400@stboswellsvillagehall.org
SUMMARY:Bosell Buddies
DESCRIPTION:
URL:https://stboswellsvillagehall.org/event/bosell-buddies-4/
LOCATION:St Boswells Village Hall\, Jenny Moores Road\, St Boswells\, Scottish Borders\, TD6 0AL\, United Kingdom
CATEGORIES:Main Hall
END:VEVENT
BEGIN:VEVENT
DTSTART;TZID=Europe/London:20230314T190000
DTEND;TZID=Europe/London:20230314T220000
DTSTAMP:20260421T095709
CREATED:20221112T153229Z
LAST-MODIFIED:20221112T153229Z
UID:10000956-1678820400-1678831200@stboswellsvillagehall.org
SUMMARY:SWI
DESCRIPTION:
URL:https://stboswellsvillagehall.org/event/swi-12/
LOCATION:St Boswells Village Hall\, Jenny Moores Road\, St Boswells\, Scottish Borders\, TD6 0AL\, United Kingdom
CATEGORIES:Lesser Hall
END:VEVENT
BEGIN:VEVENT
DTSTART;TZID=Europe/London:20230216T130000
DTEND;TZID=Europe/London:20230216T160000
DTSTAMP:20260421T095709
CREATED:20221112T154433Z
LAST-MODIFIED:20221112T154433Z
UID:10000965-1676552400-1676563200@stboswellsvillagehall.org
SUMMARY:Bosell Buddies
DESCRIPTION:
URL:https://stboswellsvillagehall.org/event/bosell-buddies-3/
LOCATION:St Boswells Village Hall\, Jenny Moores Road\, St Boswells\, Scottish Borders\, TD6 0AL\, United Kingdom
CATEGORIES:Main Hall
END:VEVENT
BEGIN:VEVENT
DTSTART;TZID=Europe/London:20230214T190000
DTEND;TZID=Europe/London:20230214T220000
DTSTAMP:20260421T095709
CREATED:20221112T153125Z
LAST-MODIFIED:20221112T153125Z
UID:10000955-1676401200-1676412000@stboswellsvillagehall.org
SUMMARY:SWI
DESCRIPTION:
URL:https://stboswellsvillagehall.org/event/swi-11/
LOCATION:St Boswells Village Hall\, Jenny Moores Road\, St Boswells\, Scottish Borders\, TD6 0AL\, United Kingdom
CATEGORIES:Lesser Hall
END:VEVENT
BEGIN:VEVENT
DTSTART;TZID=Europe/London:20230119T130000
DTEND;TZID=Europe/London:20230119T160000
DTSTAMP:20260421T095709
CREATED:20221112T154341Z
LAST-MODIFIED:20221112T154341Z
UID:10000964-1674133200-1674144000@stboswellsvillagehall.org
SUMMARY:Bosell Buddies
DESCRIPTION:
URL:https://stboswellsvillagehall.org/event/bosell-buddies-2/
LOCATION:St Boswells Village Hall\, Jenny Moores Road\, St Boswells\, Scottish Borders\, TD6 0AL\, United Kingdom
CATEGORIES:Main Hall
END:VEVENT
BEGIN:VEVENT
DTSTART;TZID=Europe/London:20230110T190000
DTEND;TZID=Europe/London:20230110T220000
DTSTAMP:20260421T095709
CREATED:20221112T153001Z
LAST-MODIFIED:20221112T153001Z
UID:10000954-1673377200-1673388000@stboswellsvillagehall.org
SUMMARY:SWI
DESCRIPTION:
URL:https://stboswellsvillagehall.org/event/swi-10/
LOCATION:St Boswells Village Hall\, Jenny Moores Road\, St Boswells\, Scottish Borders\, TD6 0AL\, United Kingdom
CATEGORIES:Lesser Hall
END:VEVENT
BEGIN:VEVENT
DTSTART;TZID=Europe/London:20220329T194500
DTEND;TZID=Europe/London:20220329T210000
DTSTAMP:20260421T095709
CREATED:20220316T233422Z
LAST-MODIFIED:20220316T233422Z
UID:10000732-1648583100-1648587600@stboswellsvillagehall.org
SUMMARY:Village Week Meeting
DESCRIPTION:
URL:https://stboswellsvillagehall.org/event/village-week-meeting/
CATEGORIES:Lesser Hall
END:VEVENT
BEGIN:VEVENT
DTSTART;TZID=Europe/London:20220222T200000
DTEND;TZID=Europe/London:20220222T220000
DTSTAMP:20260421T095709
CREATED:20220131T215455Z
LAST-MODIFIED:20220131T215455Z
UID:10000578-1645560000-1645567200@stboswellsvillagehall.org
SUMMARY:Village Week Committee Meeting
DESCRIPTION:
URL:https://stboswellsvillagehall.org/event/village-week-committee-meeting-2/
LOCATION:St Boswells Village Hall\, Jenny Moores Road\, St Boswells\, Scottish Borders\, TD6 0AL\, United Kingdom
CATEGORIES:Lesser Hall
END:VEVENT
BEGIN:VEVENT
DTSTART;TZID=Europe/London:20220110T194500
DTEND;TZID=Europe/London:20220110T214500
DTSTAMP:20260421T095709
CREATED:20220103T210457Z
LAST-MODIFIED:20220109T200628Z
UID:10000464-1641843900-1641851100@stboswellsvillagehall.org
SUMMARY:Village Week Committee AGM
DESCRIPTION:
URL:https://stboswellsvillagehall.org/event/village-week-committee-meeting/
LOCATION:St Boswells Village Hall\, Jenny Moores Road\, St Boswells\, Scottish Borders\, TD6 0AL\, United Kingdom
CATEGORIES:Main Hall
END:VEVENT
END:VCALENDAR