BEGIN:VCALENDAR
VERSION:2.0
PRODID:-//St Boswells Village Hall - ECPv6.15.18//NONSGML v1.0//EN
CALSCALE:GREGORIAN
METHOD:PUBLISH
X-WR-CALNAME:St Boswells Village Hall
X-ORIGINAL-URL:https://stboswellsvillagehall.org
X-WR-CALDESC:Events for St Boswells Village Hall
REFRESH-INTERVAL;VALUE=DURATION:PT1H
X-Robots-Tag:noindex
X-PUBLISHED-TTL:PT1H
BEGIN:VTIMEZONE
TZID:Europe/London
BEGIN:DAYLIGHT
TZOFFSETFROM:+0000
TZOFFSETTO:+0100
TZNAME:BST
DTSTART:20250330T010000
END:DAYLIGHT
BEGIN:STANDARD
TZOFFSETFROM:+0100
TZOFFSETTO:+0000
TZNAME:GMT
DTSTART:20251026T010000
END:STANDARD
BEGIN:DAYLIGHT
TZOFFSETFROM:+0000
TZOFFSETTO:+0100
TZNAME:BST
DTSTART:20260329T010000
END:DAYLIGHT
BEGIN:STANDARD
TZOFFSETFROM:+0100
TZOFFSETTO:+0000
TZNAME:GMT
DTSTART:20261025T010000
END:STANDARD
BEGIN:DAYLIGHT
TZOFFSETFROM:+0000
TZOFFSETTO:+0100
TZNAME:BST
DTSTART:20270328T010000
END:DAYLIGHT
BEGIN:STANDARD
TZOFFSETFROM:+0100
TZOFFSETTO:+0000
TZNAME:GMT
DTSTART:20271031T010000
END:STANDARD
END:VTIMEZONE
BEGIN:VEVENT
DTSTART;TZID=Europe/London:20260322T133000
DTEND;TZID=Europe/London:20260322T173000
DTSTAMP:20260421T220728
CREATED:20251219T121848Z
LAST-MODIFIED:20251219T121848Z
UID:10004397-1774186200-1774200600@stboswellsvillagehall.org
SUMMARY:Church Gatherings
DESCRIPTION:Information for Caretaker: \nNone.
URL:https://stboswellsvillagehall.org/event/church-gatherings-12/
LOCATION:St Boswells Village Hall\, Jenny Moores Road\, St Boswells\, Scottish Borders\, TD6 0AL\, United Kingdom
CATEGORIES:Kitchen,Lesser Hall,Main Hall
END:VEVENT
BEGIN:VEVENT
DTSTART;TZID=Europe/London:20260320T093000
DTEND;TZID=Europe/London:20260320T103000
DTSTAMP:20260421T220728
CREATED:20250602T153150Z
LAST-MODIFIED:20250602T153150Z
UID:10003295-1773999000-1774002600@stboswellsvillagehall.org
SUMMARY:Total Blast with Dianne
DESCRIPTION:
URL:https://stboswellsvillagehall.org/event/total-blast-with-dianne-2/2026-03-20/
LOCATION:Scottish Borders
CATEGORIES:Main Hall
END:VEVENT
BEGIN:VEVENT
DTSTART;TZID=Europe/London:20260319T100000
DTEND;TZID=Europe/London:20260319T110000
DTSTAMP:20260421T220728
CREATED:20251211T124323Z
LAST-MODIFIED:20251211T124323Z
UID:10004307-1773914400-1773918000@stboswellsvillagehall.org
SUMMARY:Zumba with Dianne
DESCRIPTION:Instructions to Caretaker: \nNone
URL:https://stboswellsvillagehall.org/event/zumba-with-dianne-18/2026-03-19/
LOCATION:Scottish Borders
CATEGORIES:Main Hall
END:VEVENT
BEGIN:VEVENT
DTSTART;TZID=Europe/London:20260318T190000
DTEND;TZID=Europe/London:20260318T200000
DTSTAMP:20260421T220728
CREATED:20251206T141020Z
LAST-MODIFIED:20251206T141020Z
UID:10004080-1773860400-1773864000@stboswellsvillagehall.org
SUMMARY:Pilates for Buff Bones
DESCRIPTION:
URL:https://stboswellsvillagehall.org/event/pilates-for-buff-bones-31/
LOCATION:Scottish Borders
CATEGORIES:Main Hall
END:VEVENT
BEGIN:VEVENT
DTSTART;TZID=Europe/London:20260318T173000
DTEND;TZID=Europe/London:20260318T183000
DTSTAMP:20260421T220728
CREATED:20251206T131429Z
LAST-MODIFIED:20251206T131429Z
UID:10004023-1773855000-1773858600@stboswellsvillagehall.org
SUMMARY:Realistic Pilates with Amanda
DESCRIPTION:
URL:https://stboswellsvillagehall.org/event/realistic-pilates-with-amanda-15/
LOCATION:Scottish Borders
CATEGORIES:Main Hall
END:VEVENT
BEGIN:VEVENT
DTSTART;TZID=Europe/London:20260318T083000
DTEND;TZID=Europe/London:20260318T123000
DTSTAMP:20260421T220728
CREATED:20260113T154425Z
LAST-MODIFIED:20260113T154425Z
UID:10004494-1773822600-1773837000@stboswellsvillagehall.org
SUMMARY:Village Halls Week Event
DESCRIPTION:
URL:https://stboswellsvillagehall.org/event/village-halls-week-event/
LOCATION:Scottish Borders
CATEGORIES:Main Hall
END:VEVENT
BEGIN:VEVENT
DTSTART;TZID=Europe/London:20260317T140000
DTEND;TZID=Europe/London:20260317T150000
DTSTAMP:20260421T220728
CREATED:20251206T143454Z
LAST-MODIFIED:20251206T143454Z
UID:10004117-1773756000-1773759600@stboswellsvillagehall.org
SUMMARY:Carmens Keep Fit
DESCRIPTION:
URL:https://stboswellsvillagehall.org/event/carmens-keep-fit-5/
LOCATION:Scottish Borders
CATEGORIES:Main Hall
END:VEVENT
BEGIN:VEVENT
DTSTART;TZID=Europe/London:20260317T093000
DTEND;TZID=Europe/London:20260317T103000
DTSTAMP:20260421T220728
CREATED:20250729T120839Z
LAST-MODIFIED:20250729T130750Z
UID:10003398-1773739800-1773743400@stboswellsvillagehall.org
SUMMARY:Dianne's PiYo Stretch and Flow
DESCRIPTION:
URL:https://stboswellsvillagehall.org/event/diannes-fitness-class-2-2/2026-03-17/
LOCATION:Scottish Borders
CATEGORIES:Main Hall
END:VEVENT
BEGIN:VEVENT
DTSTART;TZID=Europe/London:20260316T180000
DTEND;TZID=Europe/London:20260316T190000
DTSTAMP:20260421T220728
CREATED:20251127T170228Z
LAST-MODIFIED:20251127T170228Z
UID:10003852-1773684000-1773687600@stboswellsvillagehall.org
SUMMARY:Zumba with Dianne
DESCRIPTION:
URL:https://stboswellsvillagehall.org/event/zumba-with-dianne-17/2026-03-16/
LOCATION:Scottish Borders
CATEGORIES:Main Hall
END:VEVENT
BEGIN:VEVENT
DTSTART;TZID=Europe/London:20260315T133000
DTEND;TZID=Europe/London:20260315T173000
DTSTAMP:20260421T220728
CREATED:20251219T121833Z
LAST-MODIFIED:20251219T121833Z
UID:10004396-1773581400-1773595800@stboswellsvillagehall.org
SUMMARY:Church Gatherings
DESCRIPTION:Information for Caretaker: \nNone.
URL:https://stboswellsvillagehall.org/event/church-gatherings-11/
LOCATION:St Boswells Village Hall\, Jenny Moores Road\, St Boswells\, Scottish Borders\, TD6 0AL\, United Kingdom
CATEGORIES:Kitchen,Lesser Hall,Main Hall
END:VEVENT
BEGIN:VEVENT
DTSTART;TZID=Europe/London:20260314T080000
DTEND;TZID=Europe/London:20260314T180000
DTSTAMP:20260421T220728
CREATED:20250923T133516Z
LAST-MODIFIED:20260312T221806Z
UID:10003529-1773475200-1773511200@stboswellsvillagehall.org
SUMMARY:Crafts Workshops
DESCRIPTION:Information for caretaker: \nTables/Seating & Set Up: 4 x 6ft tables set up in 2 rows facing each other + 4 x 6ft tables for equipment set up\nApprox Number Attending: 16 \n 
URL:https://stboswellsvillagehall.org/event/crafts-workshops-3/
LOCATION:Scottish Borders
CATEGORIES:Kitchen,Main Hall
END:VEVENT
BEGIN:VEVENT
DTSTART;TZID=Europe/London:20260313T180000
DTEND;TZID=Europe/London:20260313T230000
DTSTAMP:20260421T220728
CREATED:20260215T095707Z
LAST-MODIFIED:20260215T121614Z
UID:10004635-1773424800-1773442800@stboswellsvillagehall.org
SUMMARY:Fundraising Quiz
DESCRIPTION:Information for caretaker \n\nTables/Seating & Set Up: Tables and chairs for groups of 4\nApproximately 80 people expected
URL:https://stboswellsvillagehall.org/event/fundraising-quiz/
LOCATION:Scottish Borders
CATEGORIES:Main Hall
END:VEVENT
BEGIN:VEVENT
DTSTART;TZID=Europe/London:20260311T190000
DTEND;TZID=Europe/London:20260311T200000
DTSTAMP:20260421T220728
CREATED:20251206T140852Z
LAST-MODIFIED:20251206T140852Z
UID:10004079-1773255600-1773259200@stboswellsvillagehall.org
SUMMARY:Pilates for Buff Bones
DESCRIPTION:
URL:https://stboswellsvillagehall.org/event/pilates-for-buff-bones-29/
LOCATION:Scottish Borders
CATEGORIES:Main Hall
END:VEVENT
BEGIN:VEVENT
DTSTART;TZID=Europe/London:20260311T173000
DTEND;TZID=Europe/London:20260311T183000
DTSTAMP:20260421T220728
CREATED:20251206T131409Z
LAST-MODIFIED:20251206T131409Z
UID:10004022-1773250200-1773253800@stboswellsvillagehall.org
SUMMARY:Realistic Pilates with Amanda
DESCRIPTION:
URL:https://stboswellsvillagehall.org/event/realistic-pilates-with-amanda-14/
LOCATION:Scottish Borders
CATEGORIES:Main Hall
END:VEVENT
BEGIN:VEVENT
DTSTART;TZID=Europe/London:20260311T080000
DTEND;TZID=Europe/London:20260311T130000
DTSTAMP:20260421T220728
CREATED:20250828T152509Z
LAST-MODIFIED:20250828T152509Z
UID:10003500-1773216000-1773234000@stboswellsvillagehall.org
SUMMARY:Wednesday Warm Ups
DESCRIPTION:
URL:https://stboswellsvillagehall.org/event/wednesday-warm-ups/2026-03-11/
LOCATION:Scottish Borders
CATEGORIES:Main Hall
END:VEVENT
BEGIN:VEVENT
DTSTART;TZID=Europe/London:20260310T190000
DTEND;TZID=Europe/London:20260310T220000
DTSTAMP:20260421T220728
CREATED:20251216T165151Z
LAST-MODIFIED:20251216T165234Z
UID:10004382-1773169200-1773180000@stboswellsvillagehall.org
SUMMARY:SWI St Boswells
DESCRIPTION:
URL:https://stboswellsvillagehall.org/event/swi-st-boswells-4/
LOCATION:Scottish Borders
CATEGORIES:Kitchen,Main Hall
END:VEVENT
BEGIN:VEVENT
DTSTART;TZID=Europe/London:20260310T140000
DTEND;TZID=Europe/London:20260310T150000
DTSTAMP:20260421T220728
CREATED:20251206T143444Z
LAST-MODIFIED:20251206T143444Z
UID:10004116-1773151200-1773154800@stboswellsvillagehall.org
SUMMARY:Carmens Keep Fit
DESCRIPTION:
URL:https://stboswellsvillagehall.org/event/carmens-keep-fit-4/
LOCATION:Scottish Borders
CATEGORIES:Main Hall
END:VEVENT
BEGIN:VEVENT
DTSTART;TZID=Europe/London:20260308T133000
DTEND;TZID=Europe/London:20260308T173000
DTSTAMP:20260421T220728
CREATED:20251219T121800Z
LAST-MODIFIED:20251219T121800Z
UID:10004394-1772976600-1772991000@stboswellsvillagehall.org
SUMMARY:Church Gatherings
DESCRIPTION:Information for Caretaker: \nNone.
URL:https://stboswellsvillagehall.org/event/church-gatherings-7/
LOCATION:St Boswells Village Hall\, Jenny Moores Road\, St Boswells\, Scottish Borders\, TD6 0AL\, United Kingdom
CATEGORIES:Kitchen,Lesser Hall,Main Hall
END:VEVENT
BEGIN:VEVENT
DTSTART;TZID=Europe/London:20260307T120000
DTEND;TZID=Europe/London:20260307T173000
DTSTAMP:20260421T220728
CREATED:20260122T103453Z
LAST-MODIFIED:20260122T103553Z
UID:10004559-1772884800-1772904600@stboswellsvillagehall.org
SUMMARY:Fundraising Ceilidh for Safe Families Home for Good charity
DESCRIPTION:Information for caretaker: \nSome tables and chairs set-up in lesser hall and some chairs around the edge of the Main Hall \nThey will bring their own PA
URL:https://stboswellsvillagehall.org/event/fundraising-ceilidh-for-safe-families-home-for-good-charity/
LOCATION:Scottish Borders
CATEGORIES:Kitchen,Lesser Hall,Main Hall
END:VEVENT
BEGIN:VEVENT
DTSTART;TZID=Europe/London:20260306T093000
DTEND;TZID=Europe/London:20260306T103000
DTSTAMP:20260421T220728
CREATED:20250602T153150Z
LAST-MODIFIED:20250602T153150Z
UID:10003293-1772789400-1772793000@stboswellsvillagehall.org
SUMMARY:Total Blast with Dianne
DESCRIPTION:
URL:https://stboswellsvillagehall.org/event/total-blast-with-dianne-2/2026-03-06/
LOCATION:Scottish Borders
CATEGORIES:Main Hall
END:VEVENT
BEGIN:VEVENT
DTSTART;TZID=Europe/London:20260305T100000
DTEND;TZID=Europe/London:20260305T110000
DTSTAMP:20260421T220728
CREATED:20251211T124323Z
LAST-MODIFIED:20251211T124323Z
UID:10004305-1772704800-1772708400@stboswellsvillagehall.org
SUMMARY:Zumba with Dianne
DESCRIPTION:Instructions to Caretaker: \nNone
URL:https://stboswellsvillagehall.org/event/zumba-with-dianne-18/2026-03-05/
LOCATION:Scottish Borders
CATEGORIES:Main Hall
END:VEVENT
BEGIN:VEVENT
DTSTART;TZID=Europe/London:20260304T190000
DTEND;TZID=Europe/London:20260304T200000
DTSTAMP:20260421T220728
CREATED:20251206T135403Z
LAST-MODIFIED:20251206T140528Z
UID:10004072-1772650800-1772654400@stboswellsvillagehall.org
SUMMARY:Pilates for Buff Bones
DESCRIPTION:
URL:https://stboswellsvillagehall.org/event/pilates-for-buff-bones-28/
LOCATION:Scottish Borders
CATEGORIES:Main Hall
END:VEVENT
BEGIN:VEVENT
DTSTART;TZID=Europe/London:20260304T173000
DTEND;TZID=Europe/London:20260304T183000
DTSTAMP:20260421T220728
CREATED:20251206T131353Z
LAST-MODIFIED:20251206T131353Z
UID:10004021-1772645400-1772649000@stboswellsvillagehall.org
SUMMARY:Realistic Pilates with Amanda
DESCRIPTION:
URL:https://stboswellsvillagehall.org/event/realistic-pilates-with-amanda-13/
LOCATION:Scottish Borders
CATEGORIES:Main Hall
END:VEVENT
BEGIN:VEVENT
DTSTART;TZID=Europe/London:20260304T080000
DTEND;TZID=Europe/London:20260304T130000
DTSTAMP:20260421T220728
CREATED:20250828T152509Z
LAST-MODIFIED:20250828T152509Z
UID:10003499-1772611200-1772629200@stboswellsvillagehall.org
SUMMARY:Wednesday Warm Ups
DESCRIPTION:
URL:https://stboswellsvillagehall.org/event/wednesday-warm-ups/2026-03-04/
LOCATION:Scottish Borders
CATEGORIES:Main Hall
END:VEVENT
BEGIN:VEVENT
DTSTART;TZID=Europe/London:20260303T140000
DTEND;TZID=Europe/London:20260303T150000
DTSTAMP:20260421T220728
CREATED:20251206T143432Z
LAST-MODIFIED:20251206T143432Z
UID:10004115-1772546400-1772550000@stboswellsvillagehall.org
SUMMARY:Carmens Keep Fit
DESCRIPTION:
URL:https://stboswellsvillagehall.org/event/carmens-keep-fit-3/
LOCATION:Scottish Borders
CATEGORIES:Main Hall
END:VEVENT
BEGIN:VEVENT
DTSTART;TZID=Europe/London:20260303T093000
DTEND;TZID=Europe/London:20260303T103000
DTSTAMP:20260421T220728
CREATED:20250729T120839Z
LAST-MODIFIED:20250729T130750Z
UID:10003396-1772530200-1772533800@stboswellsvillagehall.org
SUMMARY:Dianne's PiYo Stretch and Flow
DESCRIPTION:
URL:https://stboswellsvillagehall.org/event/diannes-fitness-class-2-2/2026-03-03/
LOCATION:Scottish Borders
CATEGORIES:Main Hall
END:VEVENT
BEGIN:VEVENT
DTSTART;TZID=Europe/London:20260302T180000
DTEND;TZID=Europe/London:20260302T190000
DTSTAMP:20260421T220728
CREATED:20251127T170228Z
LAST-MODIFIED:20251127T170228Z
UID:10003850-1772474400-1772478000@stboswellsvillagehall.org
SUMMARY:Zumba with Dianne
DESCRIPTION:
URL:https://stboswellsvillagehall.org/event/zumba-with-dianne-17/2026-03-02/
LOCATION:Scottish Borders
CATEGORIES:Main Hall
END:VEVENT
BEGIN:VEVENT
DTSTART;TZID=Europe/London:20260228T090000
DTEND;TZID=Europe/London:20260228T153000
DTSTAMP:20260421T220728
CREATED:20251222T133350Z
LAST-MODIFIED:20260106T111125Z
UID:10004421-1772269200-1772292600@stboswellsvillagehall.org
SUMMARY:Swap event
DESCRIPTION:Information for Caretaker \nNone. Organiser to set up. \n 
URL:https://stboswellsvillagehall.org/event/swap-event/
LOCATION:Scottish Borders
CATEGORIES:Main Hall
END:VEVENT
BEGIN:VEVENT
DTSTART;TZID=Europe/London:20260227T093000
DTEND;TZID=Europe/London:20260227T103000
DTSTAMP:20260421T220728
CREATED:20250602T153150Z
LAST-MODIFIED:20250602T153150Z
UID:10003292-1772184600-1772188200@stboswellsvillagehall.org
SUMMARY:Total Blast with Dianne
DESCRIPTION:
URL:https://stboswellsvillagehall.org/event/total-blast-with-dianne-2/2026-02-27/
LOCATION:Scottish Borders
CATEGORIES:Main Hall
END:VEVENT
BEGIN:VEVENT
DTSTART;TZID=Europe/London:20260226T180000
DTEND;TZID=Europe/London:20260226T210000
DTSTAMP:20260421T220728
CREATED:20251216T171050Z
LAST-MODIFIED:20251216T171050Z
UID:10004393-1772128800-1772139600@stboswellsvillagehall.org
SUMMARY:Dog Training
DESCRIPTION:
URL:https://stboswellsvillagehall.org/event/dog-training-5/
LOCATION:Scottish Borders
CATEGORIES:Main Hall
END:VEVENT
END:VCALENDAR