BEGIN:VCALENDAR
VERSION:2.0
PRODID:-//St Boswells Village Hall - ECPv6.15.18//NONSGML v1.0//EN
CALSCALE:GREGORIAN
METHOD:PUBLISH
X-WR-CALNAME:St Boswells Village Hall
X-ORIGINAL-URL:https://stboswellsvillagehall.org
X-WR-CALDESC:Events for St Boswells Village Hall
REFRESH-INTERVAL;VALUE=DURATION:PT1H
X-Robots-Tag:noindex
X-PUBLISHED-TTL:PT1H
BEGIN:VTIMEZONE
TZID:Europe/London
BEGIN:DAYLIGHT
TZOFFSETFROM:+0000
TZOFFSETTO:+0100
TZNAME:BST
DTSTART:20250330T010000
END:DAYLIGHT
BEGIN:STANDARD
TZOFFSETFROM:+0100
TZOFFSETTO:+0000
TZNAME:GMT
DTSTART:20251026T010000
END:STANDARD
BEGIN:DAYLIGHT
TZOFFSETFROM:+0000
TZOFFSETTO:+0100
TZNAME:BST
DTSTART:20260329T010000
END:DAYLIGHT
BEGIN:STANDARD
TZOFFSETFROM:+0100
TZOFFSETTO:+0000
TZNAME:GMT
DTSTART:20261025T010000
END:STANDARD
BEGIN:DAYLIGHT
TZOFFSETFROM:+0000
TZOFFSETTO:+0100
TZNAME:BST
DTSTART:20270328T010000
END:DAYLIGHT
BEGIN:STANDARD
TZOFFSETFROM:+0100
TZOFFSETTO:+0000
TZNAME:GMT
DTSTART:20271031T010000
END:STANDARD
END:VTIMEZONE
BEGIN:VEVENT
DTSTART;TZID=Europe/London:20260412T133000
DTEND;TZID=Europe/London:20260412T173000
DTSTAMP:20260421T183939
CREATED:20251219T121907Z
LAST-MODIFIED:20251219T121907Z
UID:10004398-1776000600-1776015000@stboswellsvillagehall.org
SUMMARY:Church Gatherings
DESCRIPTION:Information for Caretaker: \nNone.
URL:https://stboswellsvillagehall.org/event/church-gatherings-13/
LOCATION:St Boswells Village Hall\, Jenny Moores Road\, St Boswells\, Scottish Borders\, TD6 0AL\, United Kingdom
CATEGORIES:Kitchen,Lesser Hall,Main Hall
END:VEVENT
BEGIN:VEVENT
DTSTART;TZID=Europe/London:20260410T093000
DTEND;TZID=Europe/London:20260410T103000
DTSTAMP:20260421T183939
CREATED:20250602T153150Z
LAST-MODIFIED:20250602T153150Z
UID:10003298-1775813400-1775817000@stboswellsvillagehall.org
SUMMARY:Total Blast with Dianne
DESCRIPTION:
URL:https://stboswellsvillagehall.org/event/total-blast-with-dianne-2/2026-04-10/
CATEGORIES:Main Hall
END:VEVENT
BEGIN:VEVENT
DTSTART;TZID=Europe/London:20260409T181500
DTEND;TZID=Europe/London:20260409T204500
DTSTAMP:20260421T183939
CREATED:20260216T084629Z
LAST-MODIFIED:20260302T091442Z
UID:10004636-1775758500-1775767500@stboswellsvillagehall.org
SUMMARY:Dog Training
DESCRIPTION:Information for caretaker: \nNo setup required
URL:https://stboswellsvillagehall.org/event/dog-training-32/
CATEGORIES:Main Hall
END:VEVENT
BEGIN:VEVENT
DTSTART;TZID=Europe/London:20260409T100000
DTEND;TZID=Europe/London:20260409T110000
DTSTAMP:20260421T183939
CREATED:20251211T124323Z
LAST-MODIFIED:20251211T124323Z
UID:10004310-1775728800-1775732400@stboswellsvillagehall.org
SUMMARY:Zumba with Dianne
DESCRIPTION:Instructions to Caretaker: \nNone
URL:https://stboswellsvillagehall.org/event/zumba-with-dianne-18/2026-04-09/
CATEGORIES:Main Hall
END:VEVENT
BEGIN:VEVENT
DTSTART;TZID=Europe/London:20260407T093000
DTEND;TZID=Europe/London:20260407T103000
DTSTAMP:20260421T183939
CREATED:20250729T120839Z
LAST-MODIFIED:20250729T130750Z
UID:10003401-1775554200-1775557800@stboswellsvillagehall.org
SUMMARY:Dianne's PiYo Stretch and Flow
DESCRIPTION:
URL:https://stboswellsvillagehall.org/event/diannes-fitness-class-2-2/2026-04-07/
CATEGORIES:Main Hall
END:VEVENT
BEGIN:VEVENT
DTSTART;TZID=Europe/London:20260406T180000
DTEND;TZID=Europe/London:20260406T190000
DTSTAMP:20260421T183939
CREATED:20251127T170228Z
LAST-MODIFIED:20251127T170228Z
UID:10003855-1775498400-1775502000@stboswellsvillagehall.org
SUMMARY:Zumba with Dianne
DESCRIPTION:
URL:https://stboswellsvillagehall.org/event/zumba-with-dianne-17/2026-04-06/
CATEGORIES:Main Hall
END:VEVENT
BEGIN:VEVENT
DTSTART;TZID=Europe/London:20260405T090000
DTEND;TZID=Europe/London:20260405T130000
DTSTAMP:20260421T183939
CREATED:20260107T141648Z
LAST-MODIFIED:20260402T162249Z
UID:10004426-1775379600-1775394000@stboswellsvillagehall.org
SUMMARY:Church Gatherings
DESCRIPTION:Information for Caretaker: \nNone.
URL:https://stboswellsvillagehall.org/event/church-gatherings-36/
LOCATION:St Boswells Village Hall\, Jenny Moores Road\, St Boswells\, Scottish Borders\, TD6 0AL\, United Kingdom
CATEGORIES:Main Hall
END:VEVENT
BEGIN:VEVENT
DTSTART;TZID=Europe/London:20260403T093000
DTEND;TZID=Europe/London:20260403T103000
DTSTAMP:20260421T183939
CREATED:20250602T153150Z
LAST-MODIFIED:20250602T153150Z
UID:10003297-1775208600-1775212200@stboswellsvillagehall.org
SUMMARY:Total Blast with Dianne
DESCRIPTION:
URL:https://stboswellsvillagehall.org/event/total-blast-with-dianne-2/2026-04-03/
CATEGORIES:Main Hall
END:VEVENT
BEGIN:VEVENT
DTSTART;TZID=Europe/London:20260402T143000
DTEND;TZID=Europe/London:20260402T180000
DTSTAMP:20260421T183939
CREATED:20260209T163648Z
LAST-MODIFIED:20260324T105646Z
UID:10004605-1775140200-1775152800@stboswellsvillagehall.org
SUMMARY:Birthday party
DESCRIPTION:Information for caretakers: \nSeating & Set Up: Tables for 25 ish kids – probably use the small ones \nThey are having a bouncy castle which will be provided and installed by the supplier \n 
URL:https://stboswellsvillagehall.org/event/birthday-party-3/
CATEGORIES:Kitchen,Main Hall
END:VEVENT
BEGIN:VEVENT
DTSTART;TZID=Europe/London:20260402T100000
DTEND;TZID=Europe/London:20260402T110000
DTSTAMP:20260421T183939
CREATED:20251211T124323Z
LAST-MODIFIED:20251211T124323Z
UID:10004309-1775124000-1775127600@stboswellsvillagehall.org
SUMMARY:Zumba with Dianne
DESCRIPTION:Instructions to Caretaker: \nNone
URL:https://stboswellsvillagehall.org/event/zumba-with-dianne-18/2026-04-02/
CATEGORIES:Main Hall
END:VEVENT
BEGIN:VEVENT
DTSTART;TZID=Europe/London:20260401T190000
DTEND;TZID=Europe/London:20260401T200000
DTSTAMP:20260421T183939
CREATED:20251206T141054Z
LAST-MODIFIED:20251206T141054Z
UID:10004082-1775070000-1775073600@stboswellsvillagehall.org
SUMMARY:Pilates for Buff Bones
DESCRIPTION:
URL:https://stboswellsvillagehall.org/event/pilates-for-buff-bones-34/
CATEGORIES:Main Hall
END:VEVENT
BEGIN:VEVENT
DTSTART;TZID=Europe/London:20260401T173000
DTEND;TZID=Europe/London:20260401T183000
DTSTAMP:20260421T183939
CREATED:20251206T131514Z
LAST-MODIFIED:20251206T131514Z
UID:10004025-1775064600-1775068200@stboswellsvillagehall.org
SUMMARY:Realistic Pilates with Amanda
DESCRIPTION:
URL:https://stboswellsvillagehall.org/event/realistic-pilates-with-amanda-17/
CATEGORIES:Main Hall
END:VEVENT
BEGIN:VEVENT
DTSTART;TZID=Europe/London:20260331T180000
DTEND;TZID=Europe/London:20260331T213000
DTSTAMP:20260421T183939
CREATED:20251213T133724Z
LAST-MODIFIED:20260105T123713Z
UID:10004347-1774980000-1774992600@stboswellsvillagehall.org
SUMMARY:St Boswells OAP
DESCRIPTION:Information for caretaker: \nOne small table just in front of the stage\nTwo large tables with six chairs each and eight small tables with four chairs each\, randomly put but nearer the stage end and not the clock end.
URL:https://stboswellsvillagehall.org/event/st-boswells-oap-26/
CATEGORIES:Kitchen,Main Hall
END:VEVENT
BEGIN:VEVENT
DTSTART;TZID=Europe/London:20260331T140000
DTEND;TZID=Europe/London:20260331T150000
DTSTAMP:20260421T183939
CREATED:20260302T220150Z
LAST-MODIFIED:20260302T220150Z
UID:10004650-1774965600-1774969200@stboswellsvillagehall.org
SUMMARY:Carmens Keep Fit
DESCRIPTION:
URL:https://stboswellsvillagehall.org/event/carmens-keep-fit-45/
CATEGORIES:Main Hall
END:VEVENT
BEGIN:VEVENT
DTSTART;TZID=Europe/London:20260331T093000
DTEND;TZID=Europe/London:20260331T103000
DTSTAMP:20260421T183939
CREATED:20250729T120839Z
LAST-MODIFIED:20250729T130750Z
UID:10003400-1774949400-1774953000@stboswellsvillagehall.org
SUMMARY:Dianne's PiYo Stretch and Flow
DESCRIPTION:
URL:https://stboswellsvillagehall.org/event/diannes-fitness-class-2-2/2026-03-31/
CATEGORIES:Main Hall
END:VEVENT
BEGIN:VEVENT
DTSTART;TZID=Europe/London:20260330T180000
DTEND;TZID=Europe/London:20260330T190000
DTSTAMP:20260421T183939
CREATED:20251127T170228Z
LAST-MODIFIED:20251127T170228Z
UID:10003854-1774893600-1774897200@stboswellsvillagehall.org
SUMMARY:Zumba with Dianne
DESCRIPTION:
URL:https://stboswellsvillagehall.org/event/zumba-with-dianne-17/2026-03-30/
CATEGORIES:Main Hall
END:VEVENT
BEGIN:VEVENT
DTSTART;TZID=Europe/London:20260327T093000
DTEND;TZID=Europe/London:20260327T103000
DTSTAMP:20260421T183939
CREATED:20250602T153150Z
LAST-MODIFIED:20250602T153150Z
UID:10003296-1774603800-1774607400@stboswellsvillagehall.org
SUMMARY:Total Blast with Dianne
DESCRIPTION:
URL:https://stboswellsvillagehall.org/event/total-blast-with-dianne-2/2026-03-27/
CATEGORIES:Main Hall
END:VEVENT
BEGIN:VEVENT
DTSTART;TZID=Europe/London:20260326T100000
DTEND;TZID=Europe/London:20260326T110000
DTSTAMP:20260421T183939
CREATED:20251211T124323Z
LAST-MODIFIED:20251211T124323Z
UID:10004308-1774519200-1774522800@stboswellsvillagehall.org
SUMMARY:Zumba with Dianne
DESCRIPTION:Instructions to Caretaker: \nNone
URL:https://stboswellsvillagehall.org/event/zumba-with-dianne-18/2026-03-26/
CATEGORIES:Main Hall
END:VEVENT
BEGIN:VEVENT
DTSTART;TZID=Europe/London:20260325T190000
DTEND;TZID=Europe/London:20260325T200000
DTSTAMP:20260421T183939
CREATED:20251206T141035Z
LAST-MODIFIED:20251206T141035Z
UID:10004081-1774465200-1774468800@stboswellsvillagehall.org
SUMMARY:Pilates for Buff Bones
DESCRIPTION:
URL:https://stboswellsvillagehall.org/event/pilates-for-buff-bones-32/
CATEGORIES:Main Hall
END:VEVENT
BEGIN:VEVENT
DTSTART;TZID=Europe/London:20260325T173000
DTEND;TZID=Europe/London:20260325T183000
DTSTAMP:20260421T183939
CREATED:20251206T131452Z
LAST-MODIFIED:20251206T131452Z
UID:10004024-1774459800-1774463400@stboswellsvillagehall.org
SUMMARY:Realistic Pilates with Amanda
DESCRIPTION:
URL:https://stboswellsvillagehall.org/event/realistic-pilates-with-amanda-16/
CATEGORIES:Main Hall
END:VEVENT
BEGIN:VEVENT
DTSTART;TZID=Europe/London:20260324T140000
DTEND;TZID=Europe/London:20260324T150000
DTSTAMP:20260421T183939
CREATED:20251206T143508Z
LAST-MODIFIED:20251206T143508Z
UID:10004118-1774360800-1774364400@stboswellsvillagehall.org
SUMMARY:Carmens Keep Fit
DESCRIPTION:
URL:https://stboswellsvillagehall.org/event/carmens-keep-fit-6/
CATEGORIES:Main Hall
END:VEVENT
BEGIN:VEVENT
DTSTART;TZID=Europe/London:20260324T093000
DTEND;TZID=Europe/London:20260324T103000
DTSTAMP:20260421T183939
CREATED:20250729T120839Z
LAST-MODIFIED:20250729T130750Z
UID:10003399-1774344600-1774348200@stboswellsvillagehall.org
SUMMARY:Dianne's PiYo Stretch and Flow
DESCRIPTION:
URL:https://stboswellsvillagehall.org/event/diannes-fitness-class-2-2/2026-03-24/
CATEGORIES:Main Hall
END:VEVENT
BEGIN:VEVENT
DTSTART;TZID=Europe/London:20260323T180000
DTEND;TZID=Europe/London:20260323T190000
DTSTAMP:20260421T183939
CREATED:20251127T170228Z
LAST-MODIFIED:20251127T170228Z
UID:10003853-1774288800-1774292400@stboswellsvillagehall.org
SUMMARY:Zumba with Dianne
DESCRIPTION:
URL:https://stboswellsvillagehall.org/event/zumba-with-dianne-17/2026-03-23/
CATEGORIES:Main Hall
END:VEVENT
BEGIN:VEVENT
DTSTART;TZID=Europe/London:20260322T133000
DTEND;TZID=Europe/London:20260322T173000
DTSTAMP:20260421T183939
CREATED:20251219T121848Z
LAST-MODIFIED:20251219T121848Z
UID:10004397-1774186200-1774200600@stboswellsvillagehall.org
SUMMARY:Church Gatherings
DESCRIPTION:Information for Caretaker: \nNone.
URL:https://stboswellsvillagehall.org/event/church-gatherings-12/
LOCATION:St Boswells Village Hall\, Jenny Moores Road\, St Boswells\, Scottish Borders\, TD6 0AL\, United Kingdom
CATEGORIES:Kitchen,Lesser Hall,Main Hall
END:VEVENT
BEGIN:VEVENT
DTSTART;TZID=Europe/London:20260320T093000
DTEND;TZID=Europe/London:20260320T103000
DTSTAMP:20260421T183939
CREATED:20250602T153150Z
LAST-MODIFIED:20250602T153150Z
UID:10003295-1773999000-1774002600@stboswellsvillagehall.org
SUMMARY:Total Blast with Dianne
DESCRIPTION:
URL:https://stboswellsvillagehall.org/event/total-blast-with-dianne-2/2026-03-20/
CATEGORIES:Main Hall
END:VEVENT
BEGIN:VEVENT
DTSTART;TZID=Europe/London:20260319T100000
DTEND;TZID=Europe/London:20260319T110000
DTSTAMP:20260421T183939
CREATED:20251211T124323Z
LAST-MODIFIED:20251211T124323Z
UID:10004307-1773914400-1773918000@stboswellsvillagehall.org
SUMMARY:Zumba with Dianne
DESCRIPTION:Instructions to Caretaker: \nNone
URL:https://stboswellsvillagehall.org/event/zumba-with-dianne-18/2026-03-19/
CATEGORIES:Main Hall
END:VEVENT
BEGIN:VEVENT
DTSTART;TZID=Europe/London:20260318T190000
DTEND;TZID=Europe/London:20260318T200000
DTSTAMP:20260421T183939
CREATED:20251206T141020Z
LAST-MODIFIED:20251206T141020Z
UID:10004080-1773860400-1773864000@stboswellsvillagehall.org
SUMMARY:Pilates for Buff Bones
DESCRIPTION:
URL:https://stboswellsvillagehall.org/event/pilates-for-buff-bones-31/
CATEGORIES:Main Hall
END:VEVENT
BEGIN:VEVENT
DTSTART;TZID=Europe/London:20260318T173000
DTEND;TZID=Europe/London:20260318T183000
DTSTAMP:20260421T183939
CREATED:20251206T131429Z
LAST-MODIFIED:20251206T131429Z
UID:10004023-1773855000-1773858600@stboswellsvillagehall.org
SUMMARY:Realistic Pilates with Amanda
DESCRIPTION:
URL:https://stboswellsvillagehall.org/event/realistic-pilates-with-amanda-15/
CATEGORIES:Main Hall
END:VEVENT
BEGIN:VEVENT
DTSTART;TZID=Europe/London:20260318T083000
DTEND;TZID=Europe/London:20260318T123000
DTSTAMP:20260421T183939
CREATED:20260113T154425Z
LAST-MODIFIED:20260113T154425Z
UID:10004494-1773822600-1773837000@stboswellsvillagehall.org
SUMMARY:Village Halls Week Event
DESCRIPTION:
URL:https://stboswellsvillagehall.org/event/village-halls-week-event/
CATEGORIES:Main Hall
END:VEVENT
BEGIN:VEVENT
DTSTART;TZID=Europe/London:20260317T140000
DTEND;TZID=Europe/London:20260317T150000
DTSTAMP:20260421T183939
CREATED:20251206T143454Z
LAST-MODIFIED:20251206T143454Z
UID:10004117-1773756000-1773759600@stboswellsvillagehall.org
SUMMARY:Carmens Keep Fit
DESCRIPTION:
URL:https://stboswellsvillagehall.org/event/carmens-keep-fit-5/
CATEGORIES:Main Hall
END:VEVENT
END:VCALENDAR