BEGIN:VCALENDAR
VERSION:2.0
PRODID:-//St Boswells Village Hall - ECPv6.15.18//NONSGML v1.0//EN
CALSCALE:GREGORIAN
METHOD:PUBLISH
X-ORIGINAL-URL:https://stboswellsvillagehall.org
X-WR-CALDESC:Events for St Boswells Village Hall
REFRESH-INTERVAL;VALUE=DURATION:PT1H
X-Robots-Tag:noindex
X-PUBLISHED-TTL:PT1H
BEGIN:VTIMEZONE
TZID:Europe/London
BEGIN:DAYLIGHT
TZOFFSETFROM:+0000
TZOFFSETTO:+0100
TZNAME:BST
DTSTART:20250330T010000
END:DAYLIGHT
BEGIN:STANDARD
TZOFFSETFROM:+0100
TZOFFSETTO:+0000
TZNAME:GMT
DTSTART:20251026T010000
END:STANDARD
BEGIN:DAYLIGHT
TZOFFSETFROM:+0000
TZOFFSETTO:+0100
TZNAME:BST
DTSTART:20260329T010000
END:DAYLIGHT
BEGIN:STANDARD
TZOFFSETFROM:+0100
TZOFFSETTO:+0000
TZNAME:GMT
DTSTART:20261025T010000
END:STANDARD
BEGIN:DAYLIGHT
TZOFFSETFROM:+0000
TZOFFSETTO:+0100
TZNAME:BST
DTSTART:20270328T010000
END:DAYLIGHT
BEGIN:STANDARD
TZOFFSETFROM:+0100
TZOFFSETTO:+0000
TZNAME:GMT
DTSTART:20271031T010000
END:STANDARD
END:VTIMEZONE
BEGIN:VEVENT
DTSTART;TZID=Europe/London:20260421T140000
DTEND;TZID=Europe/London:20260421T153000
DTSTAMP:20260421T144859
CREATED:20251206T143600Z
LAST-MODIFIED:20260325T155648Z
UID:10004122-1776780000-1776785400@stboswellsvillagehall.org
SUMMARY:Carmens Keep Fit
DESCRIPTION:
URL:https://stboswellsvillagehall.org/event/carmens-keep-fit-10/
CATEGORIES:Main Hall
END:VEVENT
BEGIN:VEVENT
DTSTART;TZID=Europe/London:20260421T183000
DTEND;TZID=Europe/London:20260421T210000
DTSTAMP:20260421T144859
CREATED:20260110T143013Z
LAST-MODIFIED:20260309T165051Z
UID:10004431-1776796200-1776805200@stboswellsvillagehall.org
SUMMARY:Peer2Peer Mindfulness Session
DESCRIPTION:Information for caretaker: \nTables/Seating & Set Up: \n\n30 seats / 3 small tables / 1 large table / projector table
URL:https://stboswellsvillagehall.org/event/peer2peer-mindfulness-session-2/
CATEGORIES:Kitchen,Main Hall
END:VEVENT
BEGIN:VEVENT
DTSTART;TZID=Europe/London:20260422T173000
DTEND;TZID=Europe/London:20260422T183000
DTSTAMP:20260421T144859
CREATED:20251206T131552Z
LAST-MODIFIED:20251206T131552Z
UID:10004027-1776879000-1776882600@stboswellsvillagehall.org
SUMMARY:Realistic Pilates with Amanda
DESCRIPTION:
URL:https://stboswellsvillagehall.org/event/realistic-pilates-with-amanda-19/
CATEGORIES:Main Hall
END:VEVENT
BEGIN:VEVENT
DTSTART;TZID=Europe/London:20260422T190000
DTEND;TZID=Europe/London:20260422T200000
DTSTAMP:20260421T144859
CREATED:20251206T141124Z
LAST-MODIFIED:20251206T141124Z
UID:10004084-1776884400-1776888000@stboswellsvillagehall.org
SUMMARY:Pilates for Buff Bones
DESCRIPTION:
URL:https://stboswellsvillagehall.org/event/pilates-for-buff-bones-36/
CATEGORIES:Main Hall
END:VEVENT
BEGIN:VEVENT
DTSTART;TZID=Europe/London:20260423T100000
DTEND;TZID=Europe/London:20260423T110000
DTSTAMP:20260421T144859
CREATED:20251211T124323Z
LAST-MODIFIED:20251211T124323Z
UID:10004312-1776938400-1776942000@stboswellsvillagehall.org
SUMMARY:Zumba with Dianne
DESCRIPTION:Instructions to Caretaker: \nNone
URL:https://stboswellsvillagehall.org/event/zumba-with-dianne-18/2026-04-23/
CATEGORIES:Main Hall
END:VEVENT
BEGIN:VEVENT
DTSTART;TZID=Europe/London:20260423T181500
DTEND;TZID=Europe/London:20260423T204500
DTSTAMP:20260421T144859
CREATED:20260216T084702Z
LAST-MODIFIED:20260302T091559Z
UID:10004638-1776968100-1776977100@stboswellsvillagehall.org
SUMMARY:Dog Training
DESCRIPTION:Information for caretaker: \nNo setup required
URL:https://stboswellsvillagehall.org/event/dog-training-34/
CATEGORIES:Main Hall
END:VEVENT
BEGIN:VEVENT
DTSTART;TZID=Europe/London:20260424T093000
DTEND;TZID=Europe/London:20260424T103000
DTSTAMP:20260421T144859
CREATED:20250602T153150Z
LAST-MODIFIED:20250602T153150Z
UID:10003300-1777023000-1777026600@stboswellsvillagehall.org
SUMMARY:Total Blast with Dianne
DESCRIPTION:
URL:https://stboswellsvillagehall.org/event/total-blast-with-dianne-2/2026-04-24/
CATEGORIES:Main Hall
END:VEVENT
BEGIN:VEVENT
DTSTART;TZID=Europe/London:20260426T133000
DTEND;TZID=Europe/London:20260426T173000
DTSTAMP:20260421T144859
CREATED:20251219T121930Z
LAST-MODIFIED:20251219T121930Z
UID:10004400-1777210200-1777224600@stboswellsvillagehall.org
SUMMARY:Church Gatherings
DESCRIPTION:Information for Caretaker: \nNone.
URL:https://stboswellsvillagehall.org/event/church-gatherings-15/
LOCATION:St Boswells Village Hall\, Jenny Moores Road\, St Boswells\, Scottish Borders\, TD6 0AL\, United Kingdom
CATEGORIES:Kitchen,Lesser Hall,Main Hall
END:VEVENT
BEGIN:VEVENT
DTSTART;TZID=Europe/London:20260427T180000
DTEND;TZID=Europe/London:20260427T190000
DTSTAMP:20260421T144859
CREATED:20251127T170228Z
LAST-MODIFIED:20251127T170228Z
UID:10003858-1777312800-1777316400@stboswellsvillagehall.org
SUMMARY:Zumba with Dianne
DESCRIPTION:
URL:https://stboswellsvillagehall.org/event/zumba-with-dianne-17/2026-04-27/
CATEGORIES:Main Hall
END:VEVENT
BEGIN:VEVENT
DTSTART;TZID=Europe/London:20260428T093000
DTEND;TZID=Europe/London:20260428T103000
DTSTAMP:20260421T144859
CREATED:20250729T120839Z
LAST-MODIFIED:20250729T130750Z
UID:10003404-1777368600-1777372200@stboswellsvillagehall.org
SUMMARY:Dianne's PiYo Stretch and Flow
DESCRIPTION:
URL:https://stboswellsvillagehall.org/event/diannes-fitness-class-2-2/2026-04-28/
CATEGORIES:Main Hall
END:VEVENT
BEGIN:VEVENT
DTSTART;TZID=Europe/London:20260428T130000
DTEND;TZID=Europe/London:20260428T143000
DTSTAMP:20260421T144859
CREATED:20251206T143611Z
LAST-MODIFIED:20260408T174956Z
UID:10004123-1777381200-1777386600@stboswellsvillagehall.org
SUMMARY:Carmens Keep Fit
DESCRIPTION:
URL:https://stboswellsvillagehall.org/event/carmens-keep-fit-11/
CATEGORIES:Main Hall
END:VEVENT
BEGIN:VEVENT
DTSTART;TZID=Europe/London:20260428T180000
DTEND;TZID=Europe/London:20260428T213000
DTSTAMP:20260421T144859
CREATED:20251213T133810Z
LAST-MODIFIED:20260105T123808Z
UID:10004348-1777399200-1777411800@stboswellsvillagehall.org
SUMMARY:St Boswells OAP
DESCRIPTION:Information for caretaker: \nOne small table just in front of the stage\nTwo large tables with six chairs each and eight small tables with four chairs each\, randomly put but nearer the stage end and not the clock end.
URL:https://stboswellsvillagehall.org/event/st-boswells-oap-27/
CATEGORIES:Kitchen,Main Hall
END:VEVENT
BEGIN:VEVENT
DTSTART;TZID=Europe/London:20260429T173000
DTEND;TZID=Europe/London:20260429T183000
DTSTAMP:20260421T144859
CREATED:20251206T131607Z
LAST-MODIFIED:20251206T131607Z
UID:10004028-1777483800-1777487400@stboswellsvillagehall.org
SUMMARY:Realistic Pilates with Amanda
DESCRIPTION:
URL:https://stboswellsvillagehall.org/event/realistic-pilates-with-amanda-20/
CATEGORIES:Main Hall
END:VEVENT
BEGIN:VEVENT
DTSTART;TZID=Europe/London:20260429T190000
DTEND;TZID=Europe/London:20260429T200000
DTSTAMP:20260421T144859
CREATED:20251206T141137Z
LAST-MODIFIED:20251206T141137Z
UID:10004085-1777489200-1777492800@stboswellsvillagehall.org
SUMMARY:Pilates for Buff Bones
DESCRIPTION:
URL:https://stboswellsvillagehall.org/event/pilates-for-buff-bones-37/
CATEGORIES:Main Hall
END:VEVENT
BEGIN:VEVENT
DTSTART;TZID=Europe/London:20260430T100000
DTEND;TZID=Europe/London:20260430T110000
DTSTAMP:20260421T144859
CREATED:20251211T124323Z
LAST-MODIFIED:20251211T124323Z
UID:10004313-1777543200-1777546800@stboswellsvillagehall.org
SUMMARY:Zumba with Dianne
DESCRIPTION:Instructions to Caretaker: \nNone
URL:https://stboswellsvillagehall.org/event/zumba-with-dianne-18/2026-04-30/
CATEGORIES:Main Hall
END:VEVENT
BEGIN:VEVENT
DTSTART;TZID=Europe/London:20260430T181500
DTEND;TZID=Europe/London:20260430T204500
DTSTAMP:20260421T144859
CREATED:20260216T084714Z
LAST-MODIFIED:20260302T091647Z
UID:10004639-1777572900-1777581900@stboswellsvillagehall.org
SUMMARY:Dog Training
DESCRIPTION:Information for caretaker: \nNo setup required
URL:https://stboswellsvillagehall.org/event/dog-training-35/
CATEGORIES:Main Hall
END:VEVENT
BEGIN:VEVENT
DTSTART;TZID=Europe/London:20260501T093000
DTEND;TZID=Europe/London:20260501T103000
DTSTAMP:20260421T144859
CREATED:20250602T153150Z
LAST-MODIFIED:20250602T153150Z
UID:10003301-1777627800-1777631400@stboswellsvillagehall.org
SUMMARY:Total Blast with Dianne
DESCRIPTION:
URL:https://stboswellsvillagehall.org/event/total-blast-with-dianne-2/2026-05-01/
CATEGORIES:Main Hall
END:VEVENT
BEGIN:VEVENT
DTSTART;TZID=Europe/London:20260504T180000
DTEND;TZID=Europe/London:20260504T190000
DTSTAMP:20260421T144859
CREATED:20251127T170228Z
LAST-MODIFIED:20251127T170228Z
UID:10003859-1777917600-1777921200@stboswellsvillagehall.org
SUMMARY:Zumba with Dianne
DESCRIPTION:
URL:https://stboswellsvillagehall.org/event/zumba-with-dianne-17/2026-05-04/
CATEGORIES:Main Hall
END:VEVENT
BEGIN:VEVENT
DTSTART;TZID=Europe/London:20260505T093000
DTEND;TZID=Europe/London:20260505T103000
DTSTAMP:20260421T144859
CREATED:20250729T120839Z
LAST-MODIFIED:20250729T130750Z
UID:10003405-1777973400-1777977000@stboswellsvillagehall.org
SUMMARY:Dianne's PiYo Stretch and Flow
DESCRIPTION:
URL:https://stboswellsvillagehall.org/event/diannes-fitness-class-2-2/2026-05-05/
CATEGORIES:Main Hall
END:VEVENT
BEGIN:VEVENT
DTSTART;TZID=Europe/London:20260505T140000
DTEND;TZID=Europe/London:20260505T153000
DTSTAMP:20260421T144859
CREATED:20251206T143622Z
LAST-MODIFIED:20260325T155821Z
UID:10004124-1777989600-1777995000@stboswellsvillagehall.org
SUMMARY:Carmens Keep Fit
DESCRIPTION:
URL:https://stboswellsvillagehall.org/event/carmens-keep-fit-12/
CATEGORIES:Main Hall
END:VEVENT
BEGIN:VEVENT
DTSTART;TZID=Europe/London:20260505T183000
DTEND;TZID=Europe/London:20260505T210000
DTSTAMP:20260421T144859
CREATED:20260110T143057Z
LAST-MODIFIED:20260309T192540Z
UID:10004433-1778005800-1778014800@stboswellsvillagehall.org
SUMMARY:Peer2Peer Mindfulness Session
DESCRIPTION:Information for caretaker: \nTables/Seating & Set Up: \n\n30 seats / 3 small tables / 1 large table / projector table
URL:https://stboswellsvillagehall.org/event/peer2peer-mindfulness-session-4/
CATEGORIES:Kitchen,Main Hall
END:VEVENT
BEGIN:VEVENT
DTSTART;TZID=Europe/London:20260506T173000
DTEND;TZID=Europe/London:20260506T183000
DTSTAMP:20260421T144859
CREATED:20251206T131621Z
LAST-MODIFIED:20251206T131621Z
UID:10004029-1778088600-1778092200@stboswellsvillagehall.org
SUMMARY:Realistic Pilates with Amanda
DESCRIPTION:
URL:https://stboswellsvillagehall.org/event/realistic-pilates-with-amanda-21/
CATEGORIES:Main Hall
END:VEVENT
BEGIN:VEVENT
DTSTART;TZID=Europe/London:20260506T190000
DTEND;TZID=Europe/London:20260506T200000
DTSTAMP:20260421T144900
CREATED:20251206T141152Z
LAST-MODIFIED:20251206T141152Z
UID:10004086-1778094000-1778097600@stboswellsvillagehall.org
SUMMARY:Pilates for Buff Bones
DESCRIPTION:
URL:https://stboswellsvillagehall.org/event/pilates-for-buff-bones-38/
CATEGORIES:Main Hall
END:VEVENT
BEGIN:VEVENT
DTSTART;TZID=Europe/London:20260508T093000
DTEND;TZID=Europe/London:20260508T103000
DTSTAMP:20260421T144900
CREATED:20250602T153150Z
LAST-MODIFIED:20250602T153150Z
UID:10003302-1778232600-1778236200@stboswellsvillagehall.org
SUMMARY:Total Blast with Dianne
DESCRIPTION:
URL:https://stboswellsvillagehall.org/event/total-blast-with-dianne-2/2026-05-08/
CATEGORIES:Main Hall
END:VEVENT
BEGIN:VEVENT
DTSTART;TZID=Europe/London:20260509T160000
DTEND;TZID=Europe/London:20260509T220000
DTSTAMP:20260421T144900
CREATED:20260401T163034Z
LAST-MODIFIED:20260414T143610Z
UID:10004879-1778342400-1778364000@stboswellsvillagehall.org
SUMMARY:Party
DESCRIPTION:Information for Caretakers: \nTables/Seating & Set Up: Chairs and tables made available to arrange themselves. \nProbably be bringing their own audio equipment for music and entertainment – to be discussed with Brian.
URL:https://stboswellsvillagehall.org/event/party-p/
CATEGORIES:Kitchen,Main Hall
END:VEVENT
BEGIN:VEVENT
DTSTART;TZID=Europe/London:20260510T133000
DTEND;TZID=Europe/London:20260510T173000
DTSTAMP:20260421T144900
CREATED:20251219T121944Z
LAST-MODIFIED:20251219T121944Z
UID:10004401-1778419800-1778434200@stboswellsvillagehall.org
SUMMARY:Church Gatherings
DESCRIPTION:Information for Caretaker: \nNone.
URL:https://stboswellsvillagehall.org/event/church-gatherings-16/
LOCATION:St Boswells Village Hall\, Jenny Moores Road\, St Boswells\, Scottish Borders\, TD6 0AL\, United Kingdom
CATEGORIES:Kitchen,Lesser Hall,Main Hall
END:VEVENT
BEGIN:VEVENT
DTSTART;TZID=Europe/London:20260511T180000
DTEND;TZID=Europe/London:20260511T190000
DTSTAMP:20260421T144900
CREATED:20251127T170228Z
LAST-MODIFIED:20251127T170228Z
UID:10003860-1778522400-1778526000@stboswellsvillagehall.org
SUMMARY:Zumba with Dianne
DESCRIPTION:
URL:https://stboswellsvillagehall.org/event/zumba-with-dianne-17/2026-05-11/
CATEGORIES:Main Hall
END:VEVENT
BEGIN:VEVENT
DTSTART;TZID=Europe/London:20260512T093000
DTEND;TZID=Europe/London:20260512T103000
DTSTAMP:20260421T144900
CREATED:20250729T120839Z
LAST-MODIFIED:20250729T130750Z
UID:10003406-1778578200-1778581800@stboswellsvillagehall.org
SUMMARY:Dianne's PiYo Stretch and Flow
DESCRIPTION:
URL:https://stboswellsvillagehall.org/event/diannes-fitness-class-2-2/2026-05-12/
CATEGORIES:Main Hall
END:VEVENT
BEGIN:VEVENT
DTSTART;TZID=Europe/London:20260512T140000
DTEND;TZID=Europe/London:20260512T153000
DTSTAMP:20260421T144900
CREATED:20251206T143634Z
LAST-MODIFIED:20260325T155859Z
UID:10004125-1778594400-1778599800@stboswellsvillagehall.org
SUMMARY:Carmens Keep Fit
DESCRIPTION:
URL:https://stboswellsvillagehall.org/event/carmens-keep-fit-13/
CATEGORIES:Main Hall
END:VEVENT
BEGIN:VEVENT
DTSTART;TZID=Europe/London:20260512T183000
DTEND;TZID=Europe/London:20260512T210000
DTSTAMP:20260421T144900
CREATED:20260110T143119Z
LAST-MODIFIED:20260309T192344Z
UID:10004434-1778610600-1778619600@stboswellsvillagehall.org
SUMMARY:Peer2Peer Mindfulness Session
DESCRIPTION:Information for caretaker: \nTables/Seating & Set Up: \n\n30 seats / 3 small tables / 1 large table / projector table
URL:https://stboswellsvillagehall.org/event/peer2peer-mindfulness-session-5/
CATEGORIES:Main Hall
END:VEVENT
END:VCALENDAR